BEGIN:VCALENDAR
VERSION:2.0
PRODID:-//SeeMySet - ECPv6.15.20//NONSGML v1.0//EN
CALSCALE:GREGORIAN
METHOD:PUBLISH
X-WR-CALNAME:SeeMySet
X-ORIGINAL-URL:https://seesomerset.com
X-WR-CALDESC:Events for SeeMySet
REFRESH-INTERVAL;VALUE=DURATION:PT1H
X-Robots-Tag:noindex
X-PUBLISHED-TTL:PT1H
BEGIN:VTIMEZONE
TZID:America/Kentucky/Monticello
BEGIN:DAYLIGHT
TZOFFSETFROM:-0500
TZOFFSETTO:-0400
TZNAME:EDT
DTSTART:20250309T070000
END:DAYLIGHT
BEGIN:STANDARD
TZOFFSETFROM:-0400
TZOFFSETTO:-0500
TZNAME:EST
DTSTART:20251102T060000
END:STANDARD
BEGIN:DAYLIGHT
TZOFFSETFROM:-0500
TZOFFSETTO:-0400
TZNAME:EDT
DTSTART:20260308T070000
END:DAYLIGHT
BEGIN:STANDARD
TZOFFSETFROM:-0400
TZOFFSETTO:-0500
TZNAME:EST
DTSTART:20261101T060000
END:STANDARD
BEGIN:DAYLIGHT
TZOFFSETFROM:-0500
TZOFFSETTO:-0400
TZNAME:EDT
DTSTART:20270314T070000
END:DAYLIGHT
BEGIN:STANDARD
TZOFFSETFROM:-0400
TZOFFSETTO:-0500
TZNAME:EST
DTSTART:20271107T060000
END:STANDARD
END:VTIMEZONE
BEGIN:VEVENT
DTSTART;TZID=America/Kentucky/Monticello:20260424T173000
DTEND;TZID=America/Kentucky/Monticello:20260424T173000
DTSTAMP:20260424T143626
CREATED:20260423T182033Z
LAST-MODIFIED:20260423T184147Z
UID:19182-1777051800-1777051800@seesomerset.com
SUMMARY:Paint With Lu at The Shine House
DESCRIPTION:Join Paint with Lu for a fun\, instruc­tor-led paint­ing ses­sion where cre­ativ­i­ty flows\, and every­one leaves with their own mas­ter­piece. Find a link to the tick­ets below! \nhttps://www.eventbrite.com/e/1982892627226?aff=oddtdtcreator \n 
URL:https://seesomerset.com/event/paint-with-lu-at-the-shine-house/
LOCATION:The Shine House
ATTACH;FMTTYPE=image/jpeg:https://seesomerset.com/wp-content/uploads/2026/04/IMG_1113.jpg
END:VEVENT
BEGIN:VEVENT
DTSTART;TZID=America/Kentucky/Monticello:20260425T110000
DTEND;TZID=America/Kentucky/Monticello:20260425T110000
DTSTAMP:20260424T143626
CREATED:20260423T181741Z
LAST-MODIFIED:20260423T184153Z
UID:19180-1777114800-1777114800@seesomerset.com
SUMMARY:Crochet Book Marks at The Shine House
DESCRIPTION:Spend a cozy\, cre­ative after­noon at The Shine House learn­ing to make cro­chet book­marks\, no expe­ri­ence need­ed\, just come ready to craft and con­nect. Find tick­ets below! \nhttps://www.eventbrite.com/e/1985938802418?aff=oddtdtcreator
URL:https://seesomerset.com/event/crochet-book-marks-at-the-shine-house/
LOCATION:The Shine House
ATTACH;FMTTYPE=image/jpeg:https://seesomerset.com/wp-content/uploads/2026/04/IMG_1112.jpg
END:VEVENT
BEGIN:VEVENT
DTSTART;TZID=America/Kentucky/Monticello:20260612T180000
DTEND;TZID=America/Kentucky/Monticello:20260612T180000
DTSTAMP:20260424T143626
CREATED:20260423T181027Z
LAST-MODIFIED:20260423T184201Z
UID:19177-1781287200-1781287200@seesomerset.com
SUMMARY:Front Porch Friday's at The Shine House
DESCRIPTION:Kick off our sum­mer series with Front Porch Fri­days\, a free\, fam­i­ly-friend­ly evening of live music fea­tur­ing Jadan Tram­mell. Bring a blan­ket and enjoy great eats from The Dirty Boba KY and Tami’s Tasti Kitchen\, plus art and kids’ activ­i­ties\, all while sup­port­ing local tal­ent (tips encour­aged).
URL:https://seesomerset.com/event/front-porch-fridays-at-the-shine-house/
LOCATION:The Shine House
ATTACH;FMTTYPE=image/jpeg:https://seesomerset.com/wp-content/uploads/2026/04/IMG_1111.jpg
END:VEVENT
END:VCALENDAR