BEGIN:VCALENDAR
VERSION:2.0
PRODID:-//SeeMySet - ECPv6.15.20//NONSGML v1.0//EN
CALSCALE:GREGORIAN
METHOD:PUBLISH
X-ORIGINAL-URL:https://seesomerset.com
X-WR-CALDESC:Events for SeeMySet
REFRESH-INTERVAL;VALUE=DURATION:PT1H
X-Robots-Tag:noindex
X-PUBLISHED-TTL:PT1H
BEGIN:VTIMEZONE
TZID:America/Kentucky/Monticello
BEGIN:DAYLIGHT
TZOFFSETFROM:-0500
TZOFFSETTO:-0400
TZNAME:EDT
DTSTART:20220313T070000
END:DAYLIGHT
BEGIN:STANDARD
TZOFFSETFROM:-0400
TZOFFSETTO:-0500
TZNAME:EST
DTSTART:20221106T060000
END:STANDARD
BEGIN:DAYLIGHT
TZOFFSETFROM:-0500
TZOFFSETTO:-0400
TZNAME:EDT
DTSTART:20230312T070000
END:DAYLIGHT
BEGIN:STANDARD
TZOFFSETFROM:-0400
TZOFFSETTO:-0500
TZNAME:EST
DTSTART:20231105T060000
END:STANDARD
BEGIN:DAYLIGHT
TZOFFSETFROM:-0500
TZOFFSETTO:-0400
TZNAME:EDT
DTSTART:20240310T070000
END:DAYLIGHT
BEGIN:STANDARD
TZOFFSETFROM:-0400
TZOFFSETTO:-0500
TZNAME:EST
DTSTART:20241103T060000
END:STANDARD
BEGIN:DAYLIGHT
TZOFFSETFROM:-0500
TZOFFSETTO:-0400
TZNAME:EDT
DTSTART:20250309T070000
END:DAYLIGHT
BEGIN:STANDARD
TZOFFSETFROM:-0400
TZOFFSETTO:-0500
TZNAME:EST
DTSTART:20251102T060000
END:STANDARD
END:VTIMEZONE
BEGIN:VEVENT
DTSTART;TZID=America/Kentucky/Monticello:20240316T100000
DTEND;TZID=America/Kentucky/Monticello:20240316T130000
DTSTAMP:20260424T074907
CREATED:20240118T201856Z
LAST-MODIFIED:20240118T201856Z
UID:15706-1710583200-1710594000@seesomerset.com
SUMMARY:12th Annual Shamrock Shuffle 5K
DESCRIPTION:Run or walk the 12th Annu­al Sham­rock Shuf­fle 5K on Sat­ur­day\, March 16 at 10 a.m. in down­town Som­er­set. It’s the largest annu­al 5K in the Lake Cum­ber­land area! Vis­it shamrockshuffleky.com or the Face­book event page for more updates and info.
URL:https://seesomerset.com/event/12th-annual-shamrock-shuffle-5k/
LOCATION:Somerset-Pulaski County Chamber of Commerce\, 236 E. Mt. Vernon St.\, Somerset\, KY\, United States
CATEGORIES:Athletic
ATTACH;FMTTYPE=image/png:https://seesomerset.com/wp-content/uploads/2024/01/Untitled-design-2024-01-17T143726.265.png
ORGANIZER;CN="Somerset Pulaski County Chamber of Commerce":MAILTO:info@somersetpulaskichamber.com
END:VEVENT
BEGIN:VEVENT
DTSTART;TZID=America/Kentucky/Monticello:20231202T170000
DTEND;TZID=America/Kentucky/Monticello:20231202T190000
DTSTAMP:20260424T074907
CREATED:20231011T201624Z
LAST-MODIFIED:20231020T150908Z
UID:4617-1701536400-1701543600@seesomerset.com
SUMMARY:2023 Somerset-Pulaski Co. Community Christmas Parade
DESCRIPTION:The 2023 annu­al Som­er­set-Pulas­ki Coun­ty Com­mu­ni­ty Christ­mas Parade will begin at 5 p.m. on Sat­ur­day\, Dec. 2 at Meece Mid­dle School and will end on South Cen­tral Avenue in down­town Som­er­set. \nFor fur­ther details call (606) 679‑7323 or vis­it the Face­book event page.
URL:https://seesomerset.com/event/2023-somerset-pulaski-co-community-christmas-parade/
LOCATION:Somerset-Pulaski County Chamber of Commerce\, 236 E. Mt. Vernon St.\, Somerset\, KY\, United States
CATEGORIES:Entertainment
ATTACH;FMTTYPE=image/jpeg:https://seesomerset.com/wp-content/uploads/2023/10/2023-christmas-parade-1800.jpg
END:VEVENT
BEGIN:VEVENT
DTSTART;TZID=America/Kentucky/Monticello:20230311T100000
DTEND;TZID=America/Kentucky/Monticello:20230311T120000
DTSTAMP:20260424T074907
CREATED:20230223T165804Z
LAST-MODIFIED:20230223T165804Z
UID:3288-1678528800-1678536000@seesomerset.com
SUMMARY:11th Annual Shamrock Shuffle 5K Race
DESCRIPTION:The Som­er­set-Pulas­ki Cham­ber of Com­merce’s 11th Annu­al Sham­rock Shuf­fle 5K will take place on Sat­ur­day\, March 11 at 10 a.m. in down­town Som­er­set! After 10 years in Burn­side\, the Shuf­fle is mov­ing to down­town Som­er­set at 236 E. Mt. Ver­non St. Come out for a fun day of rac­ing to cel­e­brate St. Patrick­’s Day. \nThe Sham­rock Shuf­fle wel­comes par­tic­i­pants of all abil­i­ty lev­els\, both walk­ers and run­ners. The course is a mea­sured 5K race\, and chip tim­ing will be used to ensure race time accu­ra­cy. There will still be a cos­tume con­test and a huge after-par­ty. \nCall (606) 679‑7323 for more info or vis­it www.somersetpulaskichamber.com.
URL:https://seesomerset.com/event/11th-annual-shamrock-shuffle-5k-race/
LOCATION:Somerset-Pulaski County Chamber of Commerce\, 236 E. Mt. Vernon St.\, Somerset\, KY\, United States
CATEGORIES:Athletic
ATTACH;FMTTYPE=image/png:https://seesomerset.com/wp-content/uploads/2023/02/Screen-Shot-2023-02-17-at-11.11.57-AM.png
END:VEVENT
END:VCALENDAR