BEGIN:VCALENDAR
VERSION:2.0
PRODID:-//SeeMySet - ECPv6.15.20//NONSGML v1.0//EN
CALSCALE:GREGORIAN
METHOD:PUBLISH
X-WR-CALNAME:SeeMySet
X-ORIGINAL-URL:https://seesomerset.com
X-WR-CALDESC:Events for SeeMySet
REFRESH-INTERVAL;VALUE=DURATION:PT1H
X-Robots-Tag:noindex
X-PUBLISHED-TTL:PT1H
BEGIN:VTIMEZONE
TZID:America/Kentucky/Monticello
BEGIN:DAYLIGHT
TZOFFSETFROM:-0500
TZOFFSETTO:-0400
TZNAME:EDT
DTSTART:20210314T070000
END:DAYLIGHT
BEGIN:STANDARD
TZOFFSETFROM:-0400
TZOFFSETTO:-0500
TZNAME:EST
DTSTART:20211107T060000
END:STANDARD
BEGIN:DAYLIGHT
TZOFFSETFROM:-0500
TZOFFSETTO:-0400
TZNAME:EDT
DTSTART:20220313T070000
END:DAYLIGHT
BEGIN:STANDARD
TZOFFSETFROM:-0400
TZOFFSETTO:-0500
TZNAME:EST
DTSTART:20221106T060000
END:STANDARD
BEGIN:DAYLIGHT
TZOFFSETFROM:-0500
TZOFFSETTO:-0400
TZNAME:EDT
DTSTART:20230312T070000
END:DAYLIGHT
BEGIN:STANDARD
TZOFFSETFROM:-0400
TZOFFSETTO:-0500
TZNAME:EST
DTSTART:20231105T060000
END:STANDARD
END:VTIMEZONE
BEGIN:VEVENT
DTSTART;VALUE=DATE:20220721
DTEND;VALUE=DATE:20220801
DTSTAMP:20260424T233758
CREATED:20220708T180956Z
LAST-MODIFIED:20220708T180956Z
UID:2899-1658361600-1659311999@seesomerset.com
SUMMARY:Flashback Theater's American Parade
DESCRIPTION:The Amer­i­can Parade is a com­e­dy of man­ners set in New York City in 1918 dur­ing the Span­ish Influen­za when ten­sions between soci­ety and polit­i­cal ide­olo­gies reached a boil­ing point. It fol­lows a group of the­atre peo­ple who get caught up in a scan­dal swirling around a con­tro­ver­sial paint­ing by an artist who has just returned from the war. The play employs mul­ti­ple lev­els of the­atri­cal illu­sion to explore the roles that mem­bers of our soci­ety por­tray. \nDates and Times\nThurs­day\, July 21 at 7:30 p.m.\nFri­day\, July 22 at 7:30 p.m.\nSat­ur­day\, July 23 at 7:30 p.m.\nFri­day\, July 29 at 7:30 p.m.\nSat­ur­day\, July 30 at 7:30 p.m.\nSun­day\, July 31 at 6:00 p.m.* \n*Denotes junior cast per­for­mance \nTicket Prices\nPay what you can! \nTick­ets may be pur­chased online (www.flashbacktheater.co/events)\, in per­son at 400 East Mt. Ver­non St\, Som­er­set\, KY 42501\, Tues­day through Fri­day 11:00 a.m. – 5:00 p.m.\, or be reserved in advance by call­ing the box office at (888) 394-FbTC. Advance tick­et sales end online 2 hours pri­or to show­time. We accept all major cred­it cards. Exchanges may be made at no cost up to 24 hours pri­or to the tick­et­ed per­for­mance by call­ing the box office. \nAll per­for­mances will take place at the Joe Ford Amphithe­ater in Rocky Hol­low Park. Please feel free to bring your own bev­er­ages\, food\, and seat­ing.
URL:https://seesomerset.com/event/flashback-theaters-american-parade/
LOCATION:Joe Ford Amphitheater\, 142 S. Central Ave.\, Somerset\, KY\, 42503\, United States
CATEGORIES:Theater
ATTACH;FMTTYPE=image/jpeg:https://seesomerset.com/wp-content/uploads/2022/07/American.jpg
END:VEVENT
END:VCALENDAR