BEGIN:VCALENDAR
VERSION:2.0
PRODID:-//SeeMySet - ECPv6.15.20//NONSGML v1.0//EN
CALSCALE:GREGORIAN
METHOD:PUBLISH
X-ORIGINAL-URL:https://seesomerset.com
X-WR-CALDESC:Events for SeeMySet
REFRESH-INTERVAL;VALUE=DURATION:PT1H
X-Robots-Tag:noindex
X-PUBLISHED-TTL:PT1H
BEGIN:VTIMEZONE
TZID:America/Kentucky/Monticello
BEGIN:DAYLIGHT
TZOFFSETFROM:-0500
TZOFFSETTO:-0400
TZNAME:EDT
DTSTART:20220313T070000
END:DAYLIGHT
BEGIN:STANDARD
TZOFFSETFROM:-0400
TZOFFSETTO:-0500
TZNAME:EST
DTSTART:20221106T060000
END:STANDARD
BEGIN:DAYLIGHT
TZOFFSETFROM:-0500
TZOFFSETTO:-0400
TZNAME:EDT
DTSTART:20230312T070000
END:DAYLIGHT
BEGIN:STANDARD
TZOFFSETFROM:-0400
TZOFFSETTO:-0500
TZNAME:EST
DTSTART:20231105T060000
END:STANDARD
BEGIN:DAYLIGHT
TZOFFSETFROM:-0500
TZOFFSETTO:-0400
TZNAME:EDT
DTSTART:20240310T070000
END:DAYLIGHT
BEGIN:STANDARD
TZOFFSETFROM:-0400
TZOFFSETTO:-0500
TZNAME:EST
DTSTART:20241103T060000
END:STANDARD
BEGIN:DAYLIGHT
TZOFFSETFROM:-0500
TZOFFSETTO:-0400
TZNAME:EDT
DTSTART:20250309T070000
END:DAYLIGHT
BEGIN:STANDARD
TZOFFSETFROM:-0400
TZOFFSETTO:-0500
TZNAME:EST
DTSTART:20251102T060000
END:STANDARD
END:VTIMEZONE
BEGIN:VEVENT
DTSTART;TZID=America/Kentucky/Monticello:20240106T200000
DTEND;TZID=America/Kentucky/Monticello:20240106T220000
DTSTAMP:20260424T093813
CREATED:20240105T134045Z
LAST-MODIFIED:20240105T134045Z
UID:15408-1704571200-1704578400@seesomerset.com
SUMMARY:Sean Whiting LIVE at Jarfly Brewing
DESCRIPTION:Musi­cian Sean Whit­ing per­forms from 8–10 p.m. Sat­ur­day\, Jan. 6 at Jarfly Brew­ing in down­town Som­er­set.
URL:https://seesomerset.com/event/sean-whiting-live-at-jarfly-brewing/
LOCATION:Jarfly Brewing Co.\, 103 Mt. Vernon St.\, Somerset\, Kentucky\, 42501\, United States
CATEGORIES:Music
ATTACH;FMTTYPE=image/png:https://seesomerset.com/wp-content/uploads/2024/01/seanwhiting.png
END:VEVENT
BEGIN:VEVENT
DTSTART;TZID=America/Kentucky/Monticello:20240105T200000
DTEND;TZID=America/Kentucky/Monticello:20240105T220000
DTSTAMP:20260424T093813
CREATED:20240105T133939Z
LAST-MODIFIED:20240105T133939Z
UID:15405-1704484800-1704492000@seesomerset.com
SUMMARY:Whiskey River LIVE at Jarfly Brewing
DESCRIPTION:Whisky Riv­er per­forms from 8–10 p.m. Fri­day\, Jan. 5 at Jarfly Brew­ing in down­town Som­er­set. The record­ing artist and vet­er­an duo will enter­tain with a wide vari­ety of nos­tal­gic chart top­pers.
URL:https://seesomerset.com/event/whiskey-river-live-at-jarfly-brewing/
LOCATION:Jarfly Brewing Co.\, 103 Mt. Vernon St.\, Somerset\, Kentucky\, 42501\, United States
CATEGORIES:Music
ATTACH;FMTTYPE=image/png:https://seesomerset.com/wp-content/uploads/2024/01/whiskeyriver.png
END:VEVENT
BEGIN:VEVENT
DTSTART;TZID=America/Kentucky/Monticello:20231216T140000
DTEND;TZID=America/Kentucky/Monticello:20231216T190000
DTSTAMP:20260424T093813
CREATED:20231207T173723Z
LAST-MODIFIED:20231207T173723Z
UID:15059-1702735200-1702753200@seesomerset.com
SUMMARY:Jarfly Winterfest
DESCRIPTION:Jarfly Win­ter­fest will enter­tain on Sat­ur­day\, Dec. 16 from 2–7 p.m. at Jarfly Brew­ing Co. in down­town Som­er­set. A ven­dors mar­ket will be set up the entire time with Wook Waf­fles serv­ing food\, and LIVE music from two Amer­i­can Idol con­tes­tants (Sea­son 21) — Caden Glover and Jadan Tram­mell.
URL:https://seesomerset.com/event/jarfly-winterfest/
LOCATION:Jarfly Brewing Co.\, 103 Mt. Vernon St.\, Somerset\, Kentucky\, 42501\, United States
CATEGORIES:Food,Music,Shopping
ATTACH;FMTTYPE=image/jpeg:https://seesomerset.com/wp-content/uploads/2023/12/jarfly-winterfest.jpeg
END:VEVENT
BEGIN:VEVENT
DTSTART;TZID=America/Kentucky/Monticello:20231215T200000
DTEND;TZID=America/Kentucky/Monticello:20231215T220000
DTSTAMP:20260424T093813
CREATED:20231214T213752Z
LAST-MODIFIED:20231214T213752Z
UID:15195-1702670400-1702677600@seesomerset.com
SUMMARY:Jonathan New at Jarfly Brewing Co.
DESCRIPTION:Hear Jonathan New per­form from 8–10 p.m. Fri­day\, Dec. 15 at Jarfly Brew­ing Co. in down­town Som­er­set. Jonathan is a tal­ent­ed musi­cian who plays mul­ti­ple instru­ments with folk melodies.
URL:https://seesomerset.com/event/jonathan-new-at-jarfly-brewing-co/
LOCATION:Jarfly Brewing Co.\, 103 Mt. Vernon St.\, Somerset\, Kentucky\, 42501\, United States
CATEGORIES:Music
ATTACH;FMTTYPE=image/jpeg:https://seesomerset.com/wp-content/uploads/2023/12/jonathannew.jpeg
END:VEVENT
BEGIN:VEVENT
DTSTART;TZID=America/Kentucky/Monticello:20231210T153000
DTEND;TZID=America/Kentucky/Monticello:20231210T183000
DTSTAMP:20260424T093813
CREATED:20231207T173801Z
LAST-MODIFIED:20231207T173801Z
UID:15062-1702222200-1702233000@seesomerset.com
SUMMARY:Santa Paws & Pints
DESCRIPTION:Bring your fur­ry friends to San­ta Paws & Pints on Sun­day\, Dec. 10 from 3:30–6:30 p.m. at Jarfly Brew­ing Co. in down­town Som­er­set. Your pets with paws can meet San­ta Claus and get a pho­to!
URL:https://seesomerset.com/event/santa-paws-pints/
LOCATION:Jarfly Brewing Co.\, 103 Mt. Vernon St.\, Somerset\, Kentucky\, 42501\, United States
CATEGORIES:Entertainment
ATTACH;FMTTYPE=image/png:https://seesomerset.com/wp-content/uploads/2023/12/jarflypawspints.png
END:VEVENT
BEGIN:VEVENT
DTSTART;TZID=America/Kentucky/Monticello:20231202T200000
DTEND;TZID=America/Kentucky/Monticello:20231202T220000
DTSTAMP:20260424T093813
CREATED:20231127T184906Z
LAST-MODIFIED:20231127T184906Z
UID:14935-1701547200-1701554400@seesomerset.com
SUMMARY:Drag & Drafts Holiday Extravaganza
DESCRIPTION:Jarfly Brew­ing Co. will host a Drag & Drafts Hol­i­day Extrav­a­gan­za at 8 p.m. Sat­ur­day\, Dec. 2 at Jarfly Brew­ing Co. in down­town Som­er­set. There is a $5 cov­er fee.
URL:https://seesomerset.com/event/drag-drafts-holiday-extravaganza/
LOCATION:Jarfly Brewing Co.\, 103 Mt. Vernon St.\, Somerset\, Kentucky\, 42501\, United States
CATEGORIES:Entertainment
ATTACH;FMTTYPE=image/jpeg:https://seesomerset.com/wp-content/uploads/2023/11/drag-drafts.jpeg
END:VEVENT
BEGIN:VEVENT
DTSTART;TZID=America/Kentucky/Monticello:20231118T200000
DTEND;TZID=America/Kentucky/Monticello:20231118T220000
DTSTAMP:20260424T093813
CREATED:20231116T161053Z
LAST-MODIFIED:20231116T161053Z
UID:14758-1700337600-1700344800@seesomerset.com
SUMMARY:Year of October at Jarfly Brewing
DESCRIPTION:Hear Year of Octo­ber per­form at 8 p.m. Sat­ur­day\, Nov. 18 at Jarfly Brew­ing in down­town Som­er­set.
URL:https://seesomerset.com/event/year-of-october-at-jarfly-brewing/
LOCATION:Jarfly Brewing Co.\, 103 Mt. Vernon St.\, Somerset\, Kentucky\, 42501\, United States
CATEGORIES:Music
ATTACH;FMTTYPE=image/jpeg:https://seesomerset.com/wp-content/uploads/2023/11/Year-of-October.jpeg
END:VEVENT
BEGIN:VEVENT
DTSTART;TZID=America/Kentucky/Monticello:20231117T200000
DTEND;TZID=America/Kentucky/Monticello:20231117T220000
DTSTAMP:20260424T093813
CREATED:20231103T202312Z
LAST-MODIFIED:20231103T202312Z
UID:14564-1700251200-1700258400@seesomerset.com
SUMMARY:Shannon Vetter Record Release Party
DESCRIPTION:Shan­non Vet­ter Record Release Par­ty with Spooky Fox and Cig­gy Tuna on Fri­day\, Novem­ber 17 at 8 p.m. at Jarfly Brew­ing in down­town Som­er­set. Shan­non Vet­ter is an accom­plished sax­o­phon­ist\, gui­tarist\, teacher\, and song­writer. Vet­ter’s new col­lec­tion of songs is titled\, “Hold­ing Pat­tern.”
URL:https://seesomerset.com/event/shannon-vetter-record-release-party/
LOCATION:Jarfly Brewing Co.\, 103 Mt. Vernon St.\, Somerset\, Kentucky\, 42501\, United States
CATEGORIES:Entertainment,Music
ATTACH;FMTTYPE=image/jpeg:https://seesomerset.com/wp-content/uploads/2023/03/jarfly-2-e1702486527541.jpg
END:VEVENT
BEGIN:VEVENT
DTSTART;TZID=America/Kentucky/Monticello:20231111T200000
DTEND;TZID=America/Kentucky/Monticello:20231111T220000
DTSTAMP:20260424T093813
CREATED:20231109T220241Z
LAST-MODIFIED:20231109T220241Z
UID:14657-1699732800-1699740000@seesomerset.com
SUMMARY:Jarfly Brewing presents The Electric Indigo
DESCRIPTION:The Elec­tric Indi­go will per­form from 8–10 p.m. Sat­ur­day\, Nov. 11 at Jarfly Brew­ing in down­town Som­er­set. There is a $5 cov­er charge to enjoy the show.
URL:https://seesomerset.com/event/jarfly-brewing-presents-the-electric-indigo/
LOCATION:Jarfly Brewing Co.\, 103 Mt. Vernon St.\, Somerset\, Kentucky\, 42501\, United States
CATEGORIES:Music
ATTACH;FMTTYPE=image/jpeg:https://seesomerset.com/wp-content/uploads/2023/11/electricindigo.jpeg
END:VEVENT
BEGIN:VEVENT
DTSTART;TZID=America/Kentucky/Monticello:20231104T140000
DTEND;TZID=America/Kentucky/Monticello:20231104T230000
DTSTAMP:20260424T093813
CREATED:20231103T202118Z
LAST-MODIFIED:20231103T202118Z
UID:14562-1699106400-1699138800@seesomerset.com
SUMMARY:Jarfly Fall Festival 2023
DESCRIPTION:Join in the fun at Jarfly­’s Fall Fes­ti­val on Sat­ur­day\, Nov. 4 from 2 to 11 p.m. in down­town Som­er­set! A ven­dor’s mar­ket will be avail­able upstairs\, food options\, LIVE music\, and a chili cook-off at 6 p.m.
URL:https://seesomerset.com/event/jarfly-fall-festival-2023/
LOCATION:Jarfly Brewing Co.\, 103 Mt. Vernon St.\, Somerset\, Kentucky\, 42501\, United States
CATEGORIES:Festival,Food,Music,Shopping
ATTACH;FMTTYPE=image/jpeg:https://seesomerset.com/wp-content/uploads/2023/03/jarfly-2-e1702486527541.jpg
END:VEVENT
BEGIN:VEVENT
DTSTART;TZID=America/Kentucky/Monticello:20231020T200000
DTEND;TZID=America/Kentucky/Monticello:20231020T230000
DTSTAMP:20260424T093813
CREATED:20231019T001824Z
LAST-MODIFIED:20231020T144758Z
UID:4634-1697832000-1697842800@seesomerset.com
SUMMARY:The Campbellsville Fusion Collective
DESCRIPTION:Hear The Camp­bellsville Fusion Col­lec­tive per­form at 8 p.m. on Fri­day\, Oct. 20 at Jarfly Brew­ing Co. in down­town Som­er­set.
URL:https://seesomerset.com/event/the-campbellsville-fusion-collective/
LOCATION:Jarfly Brewing Co.\, 103 Mt. Vernon St.\, Somerset\, Kentucky\, 42501\, United States
CATEGORIES:Music
ATTACH;FMTTYPE=image/jpeg:https://seesomerset.com/wp-content/uploads/2023/10/campbellsville.jpg
END:VEVENT
BEGIN:VEVENT
DTSTART;TZID=America/Kentucky/Monticello:20231007T200000
DTEND;TZID=America/Kentucky/Monticello:20231007T220000
DTSTAMP:20260424T093813
CREATED:20231006T161358Z
LAST-MODIFIED:20231006T161358Z
UID:4580-1696708800-1696716000@seesomerset.com
SUMMARY:Jeremiah Payne at Jarfly Brewing Co.
DESCRIPTION:Hear Jere­mi­ah Payne per­form from 8–10 p.m. on Sat­ur­day\, Oct. 7 at Jarfly Brew­ing Co. in down­town Som­er­set. Jere­mi­ah Payne’s style is a unique blend of clas­sic vin­tage rock and roll with a pinch of south­ern folk.
URL:https://seesomerset.com/event/jeremiah-payne-at-jarfly-brewing-co/
LOCATION:Jarfly Brewing Co.\, 103 Mt. Vernon St.\, Somerset\, Kentucky\, 42501\, United States
CATEGORIES:Music
ATTACH;FMTTYPE=:
END:VEVENT
BEGIN:VEVENT
DTSTART;TZID=America/Kentucky/Monticello:20231006T200000
DTEND;TZID=America/Kentucky/Monticello:20231006T230000
DTSTAMP:20260424T093813
CREATED:20231006T161234Z
LAST-MODIFIED:20231006T161234Z
UID:4577-1696622400-1696633200@seesomerset.com
SUMMARY:Leo Lovechild at Jarfly Brewing Co.
DESCRIPTION:Hear Leo Lovechild per­form from 8–11 p.m. Fri­day\, Oct. 6 at Jarfly Brew­ing Co. in down­town Som­er­set. \n\nLeo Lovechild is a song­writer\, poet\, mul­ti-instru­men­tal­ist\, and band leader from New York City who is high­ly con­cerned with bridg­ing gaps and blur­ring lines. His lat­est sin­gle\, “Bad Behav­ior” (released in August 2023)\, is a scathing but bru­tal­ly hon­est look at the New York art scene and Lovechild’s place with­in it.
URL:https://seesomerset.com/event/leo-lovechild-at-jarfly-brewing-co/
LOCATION:Jarfly Brewing Co.\, 103 Mt. Vernon St.\, Somerset\, Kentucky\, 42501\, United States
CATEGORIES:Music
ATTACH;FMTTYPE=image/jpeg:https://seesomerset.com/wp-content/uploads/2023/09/Fishing-0575_Somerset-AUG_C1400-1800.jpg
END:VEVENT
BEGIN:VEVENT
DTSTART;TZID=America/Kentucky/Monticello:20230930T200000
DTEND;TZID=America/Kentucky/Monticello:20230930T230000
DTSTAMP:20260424T093813
CREATED:20230922T154322Z
LAST-MODIFIED:20230922T154322Z
UID:4446-1696104000-1696114800@seesomerset.com
SUMMARY:Jordan Allen and the Bellwethers at Jarfly Brewing Co.
DESCRIPTION:Hear Jor­dan Allen and the Bell­wethers per­form at 8 p.m. Sat­ur­day\, Sep­tem­ber 30 at Jarfly Brew­ing Co. in down­town Som­er­set. \nFor more infor­ma­tion\, vis­it Jarfly­’s Face­book page.
URL:https://seesomerset.com/event/jordan-allen-and-the-bellwethers-at-jarfly-brewing-co/
LOCATION:Jarfly Brewing Co.\, 103 Mt. Vernon St.\, Somerset\, Kentucky\, 42501\, United States
CATEGORIES:Music
ATTACH;FMTTYPE=:
END:VEVENT
BEGIN:VEVENT
DTSTART;TZID=America/Kentucky/Monticello:20230923T200000
DTEND;TZID=America/Kentucky/Monticello:20230923T220000
DTSTAMP:20260424T093813
CREATED:20230922T154335Z
LAST-MODIFIED:20230922T154335Z
UID:4441-1695499200-1695506400@seesomerset.com
SUMMARY:Year of October & Buck the Taxidermist at Jarfly Brewing Co.
DESCRIPTION:Hear Year of Octo­ber & Buck the Taxi­der­mist per­form at 8 p.m. Sat­ur­day\, Sep­tem­ber 23 at Jarfly Brew­ing Co. in down­town Som­er­set. \nFor more infor­ma­tion\, vis­it Jarfly­’s Face­book page.
URL:https://seesomerset.com/event/year-of-october-at-jarfly-brewing-co-2/
LOCATION:Jarfly Brewing Co.\, 103 Mt. Vernon St.\, Somerset\, Kentucky\, 42501\, United States
CATEGORIES:Music
ATTACH;FMTTYPE=:
END:VEVENT
BEGIN:VEVENT
DTSTART;TZID=America/Kentucky/Monticello:20230922T200000
DTEND;TZID=America/Kentucky/Monticello:20230922T210000
DTSTAMP:20260424T093813
CREATED:20230922T154357Z
LAST-MODIFIED:20230922T154357Z
UID:4438-1695412800-1695416400@seesomerset.com
SUMMARY:Bedford Band at Jarfly Brewing Co.
DESCRIPTION:Hear Bed­ford Band per­form at 8 p.m. Fri­day\, Sep­tem­ber 22 at Jarfly Brew­ing Co. in down­town Som­er­set. \nFor more infor­ma­tion\, vis­it Jarfly­’s Face­book page.
URL:https://seesomerset.com/event/bedford-band-at-jarfly-brewing-co/
LOCATION:Jarfly Brewing Co.\, 103 Mt. Vernon St.\, Somerset\, Kentucky\, 42501\, United States
CATEGORIES:Music
ATTACH;FMTTYPE=:
END:VEVENT
BEGIN:VEVENT
DTSTART;TZID=America/Kentucky/Monticello:20230917T170000
DTEND;TZID=America/Kentucky/Monticello:20230917T190000
DTSTAMP:20260424T093813
CREATED:20230922T154353Z
LAST-MODIFIED:20230922T154353Z
UID:4435-1694970000-1694977200@seesomerset.com
SUMMARY:The Singletons at Jarfly Brewing Co.
DESCRIPTION:Hear The Sin­gle­tons per­form from 5–7 p.m. Sun­day\, Sep­tem­ber 17 at Jarfly Brew­ing Co. in down­town Som­er­set. \nFor more infor­ma­tion\, vis­it Jarfly­’s Face­book page.
URL:https://seesomerset.com/event/the-singletons-at-jarfly-brewing-co/
LOCATION:Jarfly Brewing Co.\, 103 Mt. Vernon St.\, Somerset\, Kentucky\, 42501\, United States
CATEGORIES:Music
ATTACH;FMTTYPE=:
END:VEVENT
BEGIN:VEVENT
DTSTART;TZID=America/Kentucky/Monticello:20230916T200000
DTEND;TZID=America/Kentucky/Monticello:20230916T220000
DTSTAMP:20260424T093813
CREATED:20230922T154400Z
LAST-MODIFIED:20230922T154400Z
UID:4428-1694894400-1694901600@seesomerset.com
SUMMARY:Brother Moon at Jarfly Brewing Co.
DESCRIPTION:Hear Broth­er Moon per­form at 8 p.m. Sat­ur­day\, Sep­tem­ber 16 at Jarfly Brew­ing Co. in down­town Som­er­set. \nFor more infor­ma­tion\, vis­it Jarfly­’s Face­book page.
URL:https://seesomerset.com/event/brother-moon-at-jarfly-brewing-co/
LOCATION:Jarfly Brewing Co.\, 103 Mt. Vernon St.\, Somerset\, Kentucky\, 42501\, United States
CATEGORIES:Music
ATTACH;FMTTYPE=:
END:VEVENT
BEGIN:VEVENT
DTSTART;TZID=America/Kentucky/Monticello:20230915T200000
DTEND;TZID=America/Kentucky/Monticello:20230915T220000
DTSTAMP:20260424T093813
CREATED:20230922T154409Z
LAST-MODIFIED:20230922T154409Z
UID:4432-1694808000-1694815200@seesomerset.com
SUMMARY:Jarrod Stratton at Jarfly Brewing Co.
DESCRIPTION:Hear Jar­rod Strat­ton per­form at 8 p.m. Fri­day\, Sep­tem­ber 15 at Jarfly Brew­ing Co. in down­town Som­er­set. \nFor more infor­ma­tion\, vis­it Jarfly­’s Face­book page.
URL:https://seesomerset.com/event/jarrod-stratton-at-jarfly-brewing-co/
LOCATION:Jarfly Brewing Co.\, 103 Mt. Vernon St.\, Somerset\, Kentucky\, 42501\, United States
CATEGORIES:Music
ATTACH;FMTTYPE=:
END:VEVENT
BEGIN:VEVENT
DTSTART;TZID=America/Kentucky/Monticello:20230616T200000
DTEND;TZID=America/Kentucky/Monticello:20230616T220000
DTSTAMP:20260424T093813
CREATED:20230609T155443Z
LAST-MODIFIED:20230609T155443Z
UID:3908-1686945600-1686952800@seesomerset.com
SUMMARY:LIVE Music at Jarfly Brewing Co.
DESCRIPTION:Hear four tal­ent­ed Ken­tucky musi­cians per­form at Jarfly Brew­ing Co. in down­town Som­er­set on Fri­day\, June 16 at 8 p.m. Per­form­ing artists include Kevin Dal­ton\, Tom­my Cate\, Oliv­er Sayani\, and Bran­do Van­schoy­ck. \nFor more info vis­it Jarfly Brew­ing’s Face­book page.
URL:https://seesomerset.com/event/live-music-at-jarfly-brewing-co-2/
LOCATION:Jarfly Brewing Co.\, 103 Mt. Vernon St.\, Somerset\, Kentucky\, 42501\, United States
CATEGORIES:Music
ATTACH;FMTTYPE=image/jpeg:https://seesomerset.com/wp-content/uploads/2023/06/352235754_580382443971125_6924825186939034404_n.jpg
END:VEVENT
BEGIN:VEVENT
DTSTART;TZID=America/Kentucky/Monticello:20230610T203000
DTEND;TZID=America/Kentucky/Monticello:20230610T223000
DTSTAMP:20260424T093813
CREATED:20230609T161133Z
LAST-MODIFIED:20230609T161133Z
UID:3927-1686429000-1686436200@seesomerset.com
SUMMARY:Drag & Drafts Pride Party at Jarfly Brewing Co.
DESCRIPTION:Jarfly Brew­ing Co. is invit­ing the pub­lic to cel­e­brate Pride Month with danc­ing and enter­tain­ment at 8:30 p.m. Sat­ur­day\, June 10. All ages are wel­come and there’s a $5 cov­er at the door. \nJarfly Brew­ing Co. is locat­ed in down­town Som­er­set at 103 W. Main St.
URL:https://seesomerset.com/event/drag-drafts-pride-party-at-jarfly-brewing-co/
LOCATION:Jarfly Brewing Co.\, 103 Mt. Vernon St.\, Somerset\, Kentucky\, 42501\, United States
CATEGORIES:Entertainment,Music
ATTACH;FMTTYPE=image/jpeg:https://seesomerset.com/wp-content/uploads/2023/03/jarfly-2-e1702486527541.jpg
END:VEVENT
BEGIN:VEVENT
DTSTART;TZID=America/Kentucky/Monticello:20230523T180000
DTEND;TZID=America/Kentucky/Monticello:20230523T200000
DTSTAMP:20260424T093813
CREATED:20230517T182000Z
LAST-MODIFIED:20230517T182000Z
UID:3846-1684864800-1684872000@seesomerset.com
SUMMARY:Scottapalooza at Jarfly Brewing Co.
DESCRIPTION:Join Jarfly Brew­ing Co. on Tues­day\, May 23 at 6 p.m. for a fundrais­er full of music and fel­low­ship for local Scott Spencer. Per­form­ing musi­cians include Pearlie Jenk­ins\, Cody Lee Meece\, Cig­gy Tuna\, Tom­my Cate\, Daniel Stroud’s Sleep­ing Dogs\, Ethan Wyane & The Moun­tain Review\, Stephen Collins\, and more!
URL:https://seesomerset.com/event/scottapalooza-at-jarfly-brewing-co/
LOCATION:Jarfly Brewing Co.\, 103 Mt. Vernon St.\, Somerset\, Kentucky\, 42501\, United States
CATEGORIES:Music
ATTACH;FMTTYPE=image/jpeg:https://seesomerset.com/wp-content/uploads/2023/05/scott.jpeg
END:VEVENT
BEGIN:VEVENT
DTSTART;TZID=America/Kentucky/Monticello:20230422T200000
DTEND;TZID=America/Kentucky/Monticello:20230422T220000
DTSTAMP:20260424T093813
CREATED:20230420T204317Z
LAST-MODIFIED:20230420T204317Z
UID:3694-1682193600-1682200800@seesomerset.com
SUMMARY:Drag and Drafts
DESCRIPTION:Jarfly Brew­ing Com­pa­ny is host­ing a Drag and Drafts event on Sat­ur­day\, April 22 pre­sent­ed by Lit­tle Spar­row Pro­duc­tions. There is a $5 charge at the door and the show begins at 8 p.m. sharp until 10 p.m.\, fol­lowed by meet and greet/photos.
URL:https://seesomerset.com/event/drag-and-drafts/
LOCATION:Jarfly Brewing Co.\, 103 Mt. Vernon St.\, Somerset\, Kentucky\, 42501\, United States
CATEGORIES:Entertainment
ATTACH;FMTTYPE=image/jpeg:https://seesomerset.com/wp-content/uploads/2023/04/341691304_1329921294256469_4088733758313567679_n.jpg
END:VEVENT
BEGIN:VEVENT
DTSTART;TZID=America/Kentucky/Monticello:20230414T200000
DTEND;TZID=America/Kentucky/Monticello:20230414T220000
DTSTAMP:20260424T093813
CREATED:20230413T124746Z
LAST-MODIFIED:20230413T124746Z
UID:3662-1681502400-1681509600@seesomerset.com
SUMMARY:LIVE Music at Jarfly Brewing Co.
DESCRIPTION:Vis­it Jarfly Brew­ing Co. on Fri­day\, April 14 at 8 p.m. for per­for­mances by: \nBuck the Taxi­der­mist\, Nathan Evans Fox\, and The Good Williams Fringe. \nJarfly Brew­ing Co. is locat­ed at 103 W. Mt. Ver­non St. in down­town Som­er­set\, Ky. Vis­it their Face­book page for more info.
URL:https://seesomerset.com/event/live-music-at-jarfly-brewing-co/
LOCATION:Jarfly Brewing Co.\, 103 Mt. Vernon St.\, Somerset\, Kentucky\, 42501\, United States
CATEGORIES:Music
ATTACH;FMTTYPE=image/jpeg:https://seesomerset.com/wp-content/uploads/2023/04/340180094_1193252038002661_2653709461156021673_n.jpg
END:VEVENT
BEGIN:VEVENT
DTSTART;TZID=America/Kentucky/Monticello:20230401T200000
DTEND;TZID=America/Kentucky/Monticello:20230401T220000
DTSTAMP:20260424T093813
CREATED:20230329T154930Z
LAST-MODIFIED:20230329T154930Z
UID:3613-1680379200-1680386400@seesomerset.com
SUMMARY:Jadan Trammell at Jarfly
DESCRIPTION:Hear an inti­mate set from local singer/songwriter Jadan Tram­mell at the Jarfly Brew­ing Co. tap­room on Sat­ur­day\, April 1 at 8 p.m. Tram­mell audi­tioned on the ABC real­i­ty show Amer­i­can Idol\, received a gold­en tick­et and is in the “Hol­ly­wood Round” of the com­pe­ti­tion. \nFor details vis­it Jarfly­’s Face­book page.
URL:https://seesomerset.com/event/jadan-trammell-at-jarfly/
LOCATION:Jarfly Brewing Co.\, 103 Mt. Vernon St.\, Somerset\, Kentucky\, 42501\, United States
CATEGORIES:Music
ATTACH;FMTTYPE=image/webp:https://seesomerset.com/wp-content/uploads/2023/03/2023-act-Jadan-Trammell-e1680104958574.webp
END:VEVENT
BEGIN:VEVENT
DTSTART;TZID=America/Kentucky/Monticello:20230331T200000
DTEND;TZID=America/Kentucky/Monticello:20230331T220000
DTSTAMP:20260424T093813
CREATED:20230329T154811Z
LAST-MODIFIED:20230329T154811Z
UID:3608-1680292800-1680300000@seesomerset.com
SUMMARY:Brother Smith & Trifocals at Jarfly Brewing Co.
DESCRIPTION:Broth­er Smith & Tri­fo­cals will be per­form­ing at Jarfly Brew­ing Co. on Fri­day\, March 31 at 8 p.m. There is a $10 cov­er charge at the bar. What began as a roots-dri­ven acoustic duo has trans­formed into a pro­gres­sive audi­to­ry ensem­ble to be reck­oned with. \nFea­tur­ing Trevor Cad­dell on sax­o­phone and Amber­ly Win­frey’s vocals. Broth­er Smith’s sound con­tin­u­ous­ly evolves with inspi­ra­tions that span across sev­er­al gen­res\, includ­ing rock\, funk\, gospel\, folk\, blues\, blue­grass\, jazz\, and coun­try. \nFor details\, vis­it Jarfly­’s Face­book page.
URL:https://seesomerset.com/event/brother-smith-trifocals-at-jarfly-brewing-co/
LOCATION:Jarfly Brewing Co.\, 103 Mt. Vernon St.\, Somerset\, Kentucky\, 42501\, United States
CATEGORIES:Music
ATTACH;FMTTYPE=image/jpeg:https://seesomerset.com/wp-content/uploads/2023/03/328855989_6300384721462_2583759019004293614_n.jpg
END:VEVENT
BEGIN:VEVENT
DTSTART;TZID=America/Kentucky/Monticello:20230318T180000
DTEND;TZID=America/Kentucky/Monticello:20230318T200000
DTSTAMP:20260424T093813
CREATED:20230315T195210Z
LAST-MODIFIED:20230315T195210Z
UID:3428-1679162400-1679169600@seesomerset.com
SUMMARY:Jarfly Brewing Presents: March Madness
DESCRIPTION:Hear a vari­ety of bands per­form at Jarfly Brew­ing Com­pa­ny on Sat­ur­day\, March 18th at 6 p.m. Bands per­form­ing include Detainees\, Buz­zhound\, Crop\, and Storm­tok­er. \nFor more info vis­it the event page.
URL:https://seesomerset.com/event/jarfly-brewing-presents-march-madness/
LOCATION:Jarfly Brewing Co.\, 103 Mt. Vernon St.\, Somerset\, Kentucky\, 42501\, United States
CATEGORIES:Music
ATTACH;FMTTYPE=image/jpeg:https://seesomerset.com/wp-content/uploads/2023/03/328939729_925633602184623_6488330030140512039_n-scaled.jpg
END:VEVENT
BEGIN:VEVENT
DTSTART;TZID=America/Kentucky/Monticello:20230203T200000
DTEND;TZID=America/Kentucky/Monticello:20230203T220000
DTSTAMP:20260424T093813
CREATED:20230201T130424Z
LAST-MODIFIED:20230201T130424Z
UID:3195-1675454400-1675461600@seesomerset.com
SUMMARY:Jarfly Brewing Co. Presents Spooky Fox & Daniel Cain
DESCRIPTION:Join Jarfly Brew­ing Com­pa­ny for an excit­ing night of music in the tap­room on Fri­day\, Feb. 4 at 8pm! Spooky Fox will be per­form­ing a blend of organ­ic folk music and indie rock and soul­ful singer/songwriter Daniel Cain will be play­ing a mix of out­law/­neo-tra­di­tion­al coun­try\, blue­grass\, blues\, folk\, and south­ern rock with a tinge of psy­che­delia. \nFor more infor­ma­tion about Jarfly Brew­ing Co. vis­it their web­site.
URL:https://seesomerset.com/event/jarfly-brewing-co-presents-spooky-fox-daniel-cain/
LOCATION:Jarfly Brewing Co.\, 103 Mt. Vernon St.\, Somerset\, Kentucky\, 42501\, United States
CATEGORIES:Music
ATTACH;FMTTYPE=image/png:https://seesomerset.com/wp-content/uploads/2023/01/jarflyEvent.png
END:VEVENT
END:VCALENDAR