BEGIN:VCALENDAR
VERSION:2.0
PRODID:-//SeeMySet - ECPv6.15.20//NONSGML v1.0//EN
CALSCALE:GREGORIAN
METHOD:PUBLISH
X-ORIGINAL-URL:https://seesomerset.com
X-WR-CALDESC:Events for SeeMySet
REFRESH-INTERVAL;VALUE=DURATION:PT1H
X-Robots-Tag:noindex
X-PUBLISHED-TTL:PT1H
BEGIN:VTIMEZONE
TZID:America/Kentucky/Monticello
BEGIN:DAYLIGHT
TZOFFSETFROM:-0500
TZOFFSETTO:-0400
TZNAME:EDT
DTSTART:20220313T070000
END:DAYLIGHT
BEGIN:STANDARD
TZOFFSETFROM:-0400
TZOFFSETTO:-0500
TZNAME:EST
DTSTART:20221106T060000
END:STANDARD
BEGIN:DAYLIGHT
TZOFFSETFROM:-0500
TZOFFSETTO:-0400
TZNAME:EDT
DTSTART:20230312T070000
END:DAYLIGHT
BEGIN:STANDARD
TZOFFSETFROM:-0400
TZOFFSETTO:-0500
TZNAME:EST
DTSTART:20231105T060000
END:STANDARD
BEGIN:DAYLIGHT
TZOFFSETFROM:-0500
TZOFFSETTO:-0400
TZNAME:EDT
DTSTART:20240310T070000
END:DAYLIGHT
BEGIN:STANDARD
TZOFFSETFROM:-0400
TZOFFSETTO:-0500
TZNAME:EST
DTSTART:20241103T060000
END:STANDARD
BEGIN:DAYLIGHT
TZOFFSETFROM:-0500
TZOFFSETTO:-0400
TZNAME:EDT
DTSTART:20250309T070000
END:DAYLIGHT
BEGIN:STANDARD
TZOFFSETFROM:-0400
TZOFFSETTO:-0500
TZNAME:EST
DTSTART:20251102T060000
END:STANDARD
END:VTIMEZONE
BEGIN:VEVENT
DTSTART;TZID=America/Kentucky/Monticello:20240328T193000
DTEND;TZID=America/Kentucky/Monticello:20240328T223000
DTSTAMP:20260424T063906
CREATED:20240327T220136Z
LAST-MODIFIED:20240327T220136Z
UID:16536-1711654200-1711665000@seesomerset.com
SUMMARY:Sleeping Dogs\, Cody Lee Meece and Ethan Wayne
DESCRIPTION:Hear three bands per­form on Thurs­day\, March 28 at 7:30 p.m. at Jarfly Brew­ing in down­town Som­er­set. Sleep­ing Dogs\, Cody Lee Meece and Ethan Wayne will per­form for the clos­ing of Jarfly Brew­ing. The show is free and for all ages.
URL:https://seesomerset.com/event/sleeping-dogs-cody-lee-meece-and-ethan-wayne/
LOCATION:Jarfly Brewing Co.\, 103 Mt. Vernon St.\, Somerset\, Kentucky\, 42501\, United States
CATEGORIES:Entertainment,Music
ATTACH;FMTTYPE=image/jpeg:https://seesomerset.com/wp-content/uploads/2023/03/jarfly-2-e1702486527541.jpg
END:VEVENT
BEGIN:VEVENT
DTSTART;TZID=America/Kentucky/Monticello:20240323T200000
DTEND;TZID=America/Kentucky/Monticello:20240323T220000
DTSTAMP:20260424T063906
CREATED:20240322T185605Z
LAST-MODIFIED:20240322T185605Z
UID:16505-1711224000-1711231200@seesomerset.com
SUMMARY:Drag & Drafts
DESCRIPTION:Watch the final show of Drag & Drafts pre­sent­ed by Lit­tle Spar­row Pro­duc­tions on Sat­ur­day\, March 23 at 8 p.m. at Jarfly Brew­ing in down­town Som­er­set.
URL:https://seesomerset.com/event/drag-drafts-2/
LOCATION:Jarfly Brewing Co.\, 103 Mt. Vernon St.\, Somerset\, Kentucky\, 42501\, United States
CATEGORIES:Entertainment
ATTACH;FMTTYPE=image/png:https://seesomerset.com/wp-content/uploads/2024/03/drag.png
END:VEVENT
BEGIN:VEVENT
DTSTART;TZID=America/Kentucky/Monticello:20240322T203000
DTEND;TZID=America/Kentucky/Monticello:20240322T223000
DTSTAMP:20260424T063906
CREATED:20240322T185514Z
LAST-MODIFIED:20240322T185514Z
UID:16502-1711139400-1711146600@seesomerset.com
SUMMARY:Year of October
DESCRIPTION:Hear the tal­ent­ed duo Year of Octo­ber per­form on Fri­day\, March 22 at 8:30 p.m. at Jarfly Brew­ing in down­town Som­er­set.
URL:https://seesomerset.com/event/year-of-october/
LOCATION:Jarfly Brewing Co.\, 103 Mt. Vernon St.\, Somerset\, Kentucky\, 42501\, United States
CATEGORIES:Music
ATTACH;FMTTYPE=image/png:https://seesomerset.com/wp-content/uploads/2024/03/Year-of-October.png
END:VEVENT
BEGIN:VEVENT
DTSTART;TZID=America/Kentucky/Monticello:20240316T200000
DTEND;TZID=America/Kentucky/Monticello:20240316T220000
DTSTAMP:20260424T063906
CREATED:20240307T155610Z
LAST-MODIFIED:20240313T194756Z
UID:16280-1710619200-1710626400@seesomerset.com
SUMMARY:Jeremiah Payne at Jarfly Brewing
DESCRIPTION:Hear musi­cian Jere­mi­ah Payne per­form on Sat­ur­day\, March 16 at 8 p.m. at Jarfly Brew­ing in down­town Som­er­set.
URL:https://seesomerset.com/event/jeremiah-payne-at-jarfly-brewing/
LOCATION:Jarfly Brewing Co.\, 103 Mt. Vernon St.\, Somerset\, Kentucky\, 42501\, United States
CATEGORIES:Entertainment,Music
ATTACH;FMTTYPE=image/jpeg:https://seesomerset.com/wp-content/uploads/2024/03/Jeremiah-Payne-e.jpeg
END:VEVENT
BEGIN:VEVENT
DTSTART;TZID=America/Kentucky/Monticello:20240315T210000
DTEND;TZID=America/Kentucky/Monticello:20240315T230000
DTSTAMP:20260424T063906
CREATED:20240307T155539Z
LAST-MODIFIED:20240311T160616Z
UID:16277-1710536400-1710543600@seesomerset.com
SUMMARY:Huck-Song Smith at Jarfly Brewing
DESCRIPTION:Hear Huck-Song Smith per­form on Fri­day\, March 15 from 9–11 p.m. at Jarfly Brew­ing in down­town Som­er­set.
URL:https://seesomerset.com/event/huck-song-smith-at-jarfly-brewing/
LOCATION:Jarfly Brewing Co.\, 103 Mt. Vernon St.\, Somerset\, Kentucky\, 42501\, United States
CATEGORIES:Entertainment,Music
ATTACH;FMTTYPE=image/jpeg:https://seesomerset.com/wp-content/uploads/2024/03/Huck-Song-Smith-e1709754102318.jpeg
END:VEVENT
BEGIN:VEVENT
DTSTART;TZID=America/Kentucky/Monticello:20240310T170000
DTEND;TZID=America/Kentucky/Monticello:20240310T190000
DTSTAMP:20260424T063906
CREATED:20240307T154922Z
LAST-MODIFIED:20240307T154922Z
UID:16267-1710090000-1710097200@seesomerset.com
SUMMARY:Joe Stamm at Jarfly Brewing
DESCRIPTION:Hear Joe Stamm per­form on Sun­day\, March 10 at 5pm at Jarfly Brew­ing in down­town Som­er­set.
URL:https://seesomerset.com/event/joe-stamm-at-jarfly-brewing/
LOCATION:Jarfly Brewing Co.\, 103 Mt. Vernon St.\, Somerset\, Kentucky\, 42501\, United States
CATEGORIES:Entertainment,Music
ATTACH;FMTTYPE=image/png:https://seesomerset.com/wp-content/uploads/2024/03/joe-stamm.png
END:VEVENT
BEGIN:VEVENT
DTSTART;TZID=America/Kentucky/Monticello:20240309T200000
DTEND;TZID=America/Kentucky/Monticello:20240309T220000
DTSTAMP:20260424T063906
CREATED:20240307T154749Z
LAST-MODIFIED:20240307T154749Z
UID:16258-1710014400-1710021600@seesomerset.com
SUMMARY:Earl Bowman at Jarfly Brewing
DESCRIPTION:Hear Earl Bowl­man per­form LIVE on Sat­ur­day\, March 9 from 8–10 p.m. at Jarfly Brew­ing in down­town Som­er­set.
URL:https://seesomerset.com/event/earl-bowman-at-jarfly-brewing/
LOCATION:Jarfly Brewing Co.\, 103 Mt. Vernon St.\, Somerset\, Kentucky\, 42501\, United States
CATEGORIES:Music
ATTACH;FMTTYPE=image/jpeg:https://seesomerset.com/wp-content/uploads/2024/03/earl-bowman.jpeg
END:VEVENT
BEGIN:VEVENT
DTSTART;TZID=America/Kentucky/Monticello:20240302T210000
DTEND;TZID=America/Kentucky/Monticello:20240302T230000
DTSTAMP:20260424T063906
CREATED:20240304T172129Z
LAST-MODIFIED:20240304T172129Z
UID:16231-1709413200-1709420400@seesomerset.com
SUMMARY:Vudu Child at Jarfly Brewing
DESCRIPTION:Lis­ten to Vudu Child per­form LIVE on Sat­ur­day\, March 2 from 9 to 11 p.m. at Jarfly Brew­ing in down­town Som­er­set.
URL:https://seesomerset.com/event/vudu-child-at-jarfly-brewing/
LOCATION:Jarfly Brewing Co.\, 103 Mt. Vernon St.\, Somerset\, Kentucky\, 42501\, United States
ATTACH;FMTTYPE=image/jpeg:https://seesomerset.com/wp-content/uploads/2024/02/430034116_1166849841287992_4240136505400893608_n.jpg
END:VEVENT
BEGIN:VEVENT
DTSTART;TZID=America/Kentucky/Monticello:20240301T200000
DTEND;TZID=America/Kentucky/Monticello:20240301T220000
DTSTAMP:20260424T063906
CREATED:20240304T172135Z
LAST-MODIFIED:20240304T172135Z
UID:16228-1709323200-1709330400@seesomerset.com
SUMMARY:Bedford with Cody Lee Meece
DESCRIPTION:Hear Beford and Cody Lee Meece per­form live on Fri­day\, March 1 at 8 p.m. at Jarfly Brew­ing in down­town Som­er­set.
URL:https://seesomerset.com/event/bedford-with-cody-lee-meece/
LOCATION:Jarfly Brewing Co.\, 103 Mt. Vernon St.\, Somerset\, Kentucky\, 42501\, United States
ATTACH;FMTTYPE=image/jpeg:https://seesomerset.com/wp-content/uploads/2024/02/429966362_1164951038144539_882402655370535943_n.jpg
END:VEVENT
BEGIN:VEVENT
DTSTART;TZID=America/Kentucky/Monticello:20240225T160000
DTEND;TZID=America/Kentucky/Monticello:20240225T180000
DTSTAMP:20260424T063906
CREATED:20240215T000733Z
LAST-MODIFIED:20240215T000733Z
UID:16114-1708876800-1708884000@seesomerset.com
SUMMARY:Prop & Swap
DESCRIPTION:Bring plant cut­tings to Prop & Swap on Sun­day\, Feb. 25 from 4–6 p.m. at Jarfly Brew­ing Co. in down­town Som­er­set. This event is for plant enthu­si­asts and new green-thumb hob­by­ists look­ing to grow their indoor gar­den col­lec­tion.
URL:https://seesomerset.com/event/prop-swap/
LOCATION:Jarfly Brewing Co.\, 103 Mt. Vernon St.\, Somerset\, Kentucky\, 42501\, United States
CATEGORIES:Entertainment
ATTACH;FMTTYPE=image/png:https://seesomerset.com/wp-content/uploads/2024/02/prop-swap.png
END:VEVENT
BEGIN:VEVENT
DTSTART;TZID=America/Kentucky/Monticello:20240224T200000
DTEND;TZID=America/Kentucky/Monticello:20240224T220000
DTSTAMP:20260424T063906
CREATED:20240215T000750Z
LAST-MODIFIED:20240215T000750Z
UID:16111-1708804800-1708812000@seesomerset.com
SUMMARY:Drag & Drafts
DESCRIPTION:Jarfly Brew­ing Co. is fea­tur­ing Drag & Drafts on Sat­ur­day\, Feb. 24 at 8 p.m. in down­town Som­er­set. Per­for­mances are by Lit­tle Spar­row Pro­duc­tions with a $5 cov­er.
URL:https://seesomerset.com/event/drag-drafts/
LOCATION:Jarfly Brewing Co.\, 103 Mt. Vernon St.\, Somerset\, Kentucky\, 42501\, United States
CATEGORIES:Entertainment
ATTACH;FMTTYPE=image/png:https://seesomerset.com/wp-content/uploads/2024/02/drag-draft.png
END:VEVENT
BEGIN:VEVENT
DTSTART;TZID=America/Kentucky/Monticello:20240216T200000
DTEND;TZID=America/Kentucky/Monticello:20240216T220000
DTSTAMP:20260424T063906
CREATED:20240209T161152Z
LAST-MODIFIED:20240209T161152Z
UID:16024-1708113600-1708120800@seesomerset.com
SUMMARY:Year of October at Jarfly Brewing
DESCRIPTION:Hear Year of Octo­ber per­form on Fri­day\, Feb. 16 at 8 p.m. at Jarfly Brew­ing in down­town Som­er­set.
URL:https://seesomerset.com/event/year-of-october-at-jarfly-brewing-2/
LOCATION:Jarfly Brewing Co.\, 103 Mt. Vernon St.\, Somerset\, Kentucky\, 42501\, United States
CATEGORIES:Music
ATTACH;FMTTYPE=image/png:https://seesomerset.com/wp-content/uploads/2024/02/yearofoctober.png
END:VEVENT
BEGIN:VEVENT
DTSTART;TZID=America/Kentucky/Monticello:20240213T200000
DTEND;TZID=America/Kentucky/Monticello:20240213T220000
DTSTAMP:20260424T063906
CREATED:20240209T161019Z
LAST-MODIFIED:20240209T161019Z
UID:16020-1707854400-1707861600@seesomerset.com
SUMMARY:Anti-Valentine's Emo Night
DESCRIPTION:Have an Anti-Valen­tine’s Emo Night on Tues­day\, Feb. 13 at 8 p.m. at Jarfly Brew­ing in down­town Som­er­set.
URL:https://seesomerset.com/event/anti-valentines-emo-night/
LOCATION:Jarfly Brewing Co.\, 103 Mt. Vernon St.\, Somerset\, Kentucky\, 42501\, United States
CATEGORIES:Music
ATTACH;FMTTYPE=image/png:https://seesomerset.com/wp-content/uploads/2024/02/antivalentines.png
END:VEVENT
BEGIN:VEVENT
DTSTART;TZID=America/Kentucky/Monticello:20240211T123000
DTEND;TZID=America/Kentucky/Monticello:20240211T140000
DTSTAMP:20260424T063906
CREATED:20240126T203806Z
LAST-MODIFIED:20240126T203806Z
UID:15779-1707654600-1707660000@seesomerset.com
SUMMARY:Galentine's Brunch With Princesses
DESCRIPTION:Have a mag­i­cal after­noon dur­ing a Galen­tine’s Brunch with Princess­es on Sun­day\, Feb­ru­ary 11 from 12:30–2 p.m. at Jarfly Brew­ing in down­town Som­er­set. \nPrincess Belle\, Auro­ra\, Rapun­zel\, and Ariel will all be there! the brunch will fea­ture sweet treats\, a live 30-minute per­for­mance\, rib­bon danc­ing\, and musi­cal acts! Tick­ets are avail­able through the Face­book page.
URL:https://seesomerset.com/event/galentines-brunch-with-princesses/
LOCATION:Jarfly Brewing Co.\, 103 Mt. Vernon St.\, Somerset\, Kentucky\, 42501\, United States
CATEGORIES:Entertainment,Food,Music
ATTACH;FMTTYPE=image/png:https://seesomerset.com/wp-content/uploads/2024/01/Untitled-design-2024-01-24T141506.807.png
END:VEVENT
BEGIN:VEVENT
DTSTART;TZID=America/Kentucky/Monticello:20240210T200000
DTEND;TZID=America/Kentucky/Monticello:20240210T220000
DTSTAMP:20260424T063906
CREATED:20240209T160204Z
LAST-MODIFIED:20240209T160204Z
UID:16012-1707595200-1707602400@seesomerset.com
SUMMARY:Lance Rogers at Jarfly Brewing
DESCRIPTION:Hear Lance Rogers per­form LIVE on Sat­ur­day\, Feb. 10 from 8–10 p.m. at Jarfly Brew­ing in down­town Som­er­set.
URL:https://seesomerset.com/event/lance-rogers-at-jarfly-brewing/
LOCATION:Jarfly Brewing Co.\, 103 Mt. Vernon St.\, Somerset\, Kentucky\, 42501\, United States
CATEGORIES:Music
ATTACH;FMTTYPE=image/png:https://seesomerset.com/wp-content/uploads/2024/02/lancerogers.png
END:VEVENT
BEGIN:VEVENT
DTSTART;TZID=America/Kentucky/Monticello:20240209T203000
DTEND;TZID=America/Kentucky/Monticello:20240209T223000
DTSTAMP:20260424T063906
CREATED:20240209T160854Z
LAST-MODIFIED:20240209T160854Z
UID:16016-1707510600-1707517800@seesomerset.com
SUMMARY:Shades of Raven and Ciggy Tuna
DESCRIPTION:Hear Shades of Raven and Cig­gy Tuna per­form on Fri­day\, Feb. 9 at 8:30 p.m. at Jarfly Brew­ing in down­town Som­er­set.
URL:https://seesomerset.com/event/shades-of-raven-and-ciggy-tuna/
LOCATION:Jarfly Brewing Co.\, 103 Mt. Vernon St.\, Somerset\, Kentucky\, 42501\, United States
CATEGORIES:Music
ATTACH;FMTTYPE=image/png:https://seesomerset.com/wp-content/uploads/2024/02/jarflyshadesofraven.png
END:VEVENT
BEGIN:VEVENT
DTSTART;TZID=America/Kentucky/Monticello:20240203T200000
DTEND;TZID=America/Kentucky/Monticello:20240203T220000
DTSTAMP:20260424T063906
CREATED:20240112T110503Z
LAST-MODIFIED:20240112T110503Z
UID:15585-1706990400-1706997600@seesomerset.com
SUMMARY:Daniel Cain
DESCRIPTION:Hear musi­cian Daniel Cain per­form on Sat­ur­day\, Feb. 3 at 8 p.m. at Jarfly Brew­ing in down­town Som­er­set. Daniel is a Ken­tucky-born singer-song­writer who per­forms grassy folk\, out­law coun­try\, roots\, rock\, and blues.
URL:https://seesomerset.com/event/daniel-cain/
LOCATION:Jarfly Brewing Co.\, 103 Mt. Vernon St.\, Somerset\, Kentucky\, 42501\, United States
CATEGORIES:Music
ATTACH;FMTTYPE=image/png:https://seesomerset.com/wp-content/uploads/2024/01/Untitled-design-26.png
END:VEVENT
BEGIN:VEVENT
DTSTART;TZID=America/Kentucky/Monticello:20240202T200000
DTEND;TZID=America/Kentucky/Monticello:20240202T220000
DTSTAMP:20260424T063906
CREATED:20240118T202006Z
LAST-MODIFIED:20240118T202006Z
UID:15694-1706904000-1706911200@seesomerset.com
SUMMARY:Cody Brooks Feat. Daniel Stroud's Sleeping Dogs
DESCRIPTION:Hear Cody Brooks fea­tur­ing Daniel Stroud’s Sleep­ing Dogs on Fri­day\, Feb. 2 from 8–10 p.m. at Jarfly Brew­ing in down­town Som­er­set.
URL:https://seesomerset.com/event/cody-brooks-feat-daniel-strouds-sleeping-dogs/
LOCATION:Jarfly Brewing Co.\, 103 Mt. Vernon St.\, Somerset\, Kentucky\, 42501\, United States
CATEGORIES:Music
ATTACH;FMTTYPE=image/png:https://seesomerset.com/wp-content/uploads/2024/01/Untitled-design-30.png
END:VEVENT
BEGIN:VEVENT
DTSTART;TZID=America/Kentucky/Monticello:20240127T210000
DTEND;TZID=America/Kentucky/Monticello:20240127T230000
DTSTAMP:20260424T063906
CREATED:20240118T201928Z
LAST-MODIFIED:20240118T201928Z
UID:15699-1706389200-1706396400@seesomerset.com
SUMMARY:Tyler Miniard at Jarfly Brewing
DESCRIPTION:Lis­ten to Tyler Miniard per­form on Sat­ur­day\, Jan. 27 at 9 p.m. at Jarfly Brew­ing in down­town Som­er­set.
URL:https://seesomerset.com/event/tyler-miniard-at-jarfly-brewing/
LOCATION:Jarfly Brewing Co.\, 103 Mt. Vernon St.\, Somerset\, Kentucky\, 42501\, United States
CATEGORIES:Music
ATTACH;FMTTYPE=image/png:https://seesomerset.com/wp-content/uploads/2024/01/Untitled-design-2024-01-17T142958.623.png
END:VEVENT
BEGIN:VEVENT
DTSTART;TZID=America/Kentucky/Monticello:20240126T200000
DTEND;TZID=America/Kentucky/Monticello:20240126T230000
DTSTAMP:20260424T063906
CREATED:20240112T110436Z
LAST-MODIFIED:20240112T110436Z
UID:15582-1706299200-1706310000@seesomerset.com
SUMMARY:DJ Sessions at Jarfly Brewing
DESCRIPTION:Enjoy a night of music and danc­ing with djtrav­isty and Word of Mouth on Fri­day\, Jan. 26 from 8–11 p.m. at Jarfly Brew­ing in down­town Som­er­set.
URL:https://seesomerset.com/event/dj-sessions-at-jarfly-brewing/
LOCATION:Jarfly Brewing Co.\, 103 Mt. Vernon St.\, Somerset\, Kentucky\, 42501\, United States
CATEGORIES:Music
ATTACH;FMTTYPE=image/png:https://seesomerset.com/wp-content/uploads/2024/01/Untitled-design-25.png
END:VEVENT
BEGIN:VEVENT
DTSTART;TZID=America/Kentucky/Monticello:20240120T200000
DTEND;TZID=America/Kentucky/Monticello:20240120T220000
DTSTAMP:20260424T063906
CREATED:20240112T110355Z
LAST-MODIFIED:20240112T110355Z
UID:15579-1705780800-1705788000@seesomerset.com
SUMMARY:Jory Bowling\, Cody Lee Meece and Troy Estes at Jarfly Brewing
DESCRIPTION:Enjoy a night of music with Jory Bowl­ing\, Cody Lee Meece\, and Troy Estes on Sat­ur­day\, Jan. 20 at 8 p.m. at Jarfly Brew­ing in down­town Som­er­set\, Ky.
URL:https://seesomerset.com/event/jory-bowling-cody-lee-meece-and-troy-estes-at-jarfly-brewing/
LOCATION:Jarfly Brewing Co.\, 103 Mt. Vernon St.\, Somerset\, Kentucky\, 42501\, United States
CATEGORIES:Music
ATTACH;FMTTYPE=image/jpeg:https://seesomerset.com/wp-content/uploads/2024/01/416287297_1132581138048196_3761111119512544069_n-e1704910601642.jpg
END:VEVENT
BEGIN:VEVENT
DTSTART;TZID=America/Kentucky/Monticello:20240119T200000
DTEND;TZID=America/Kentucky/Monticello:20240119T220000
DTSTAMP:20260424T063906
CREATED:20240112T110325Z
LAST-MODIFIED:20240112T110325Z
UID:15576-1705694400-1705701600@seesomerset.com
SUMMARY:Donovan Howard
DESCRIPTION:Hear Dono­van Howard per­form on Fri­day\, Jan. 19 from 8–10 p.m. at Jarfly Brew­ing in down­town Som­er­set\, Ky.
URL:https://seesomerset.com/event/donovan-howard/
LOCATION:Jarfly Brewing Co.\, 103 Mt. Vernon St.\, Somerset\, Kentucky\, 42501\, United States
CATEGORIES:Music
ATTACH;FMTTYPE=image/jpeg:https://seesomerset.com/wp-content/uploads/2024/01/416272811_1132578944715082_6200194838650436180_n.jpg
END:VEVENT
BEGIN:VEVENT
DTSTART;TZID=America/Kentucky/Monticello:20240113T200000
DTEND;TZID=America/Kentucky/Monticello:20240113T220000
DTSTAMP:20260424T063906
CREATED:20240112T110251Z
LAST-MODIFIED:20240112T110251Z
UID:15573-1705176000-1705183200@seesomerset.com
SUMMARY:Blind Feline & Jordan Allen and the Bellwethers
DESCRIPTION:Hear Blind Feline and Jor­dan Allen and the Bell­wethers per­form on Sat­ur­day\, Jan. 13 at 8 p.m. at Jarfly Brew­ing in down­town Som­er­set\, Ky.
URL:https://seesomerset.com/event/blind-feline-jordan-allen-and-the-bellwethers/
LOCATION:Jarfly Brewing Co.\, 103 Mt. Vernon St.\, Somerset\, Kentucky\, 42501\, United States
CATEGORIES:Music
ATTACH;FMTTYPE=image/jpeg:https://seesomerset.com/wp-content/uploads/2024/01/415000347_1130569324916044_1301343527738834002_n.jpg
END:VEVENT
BEGIN:VEVENT
DTSTART;TZID=America/Kentucky/Monticello:20240112T200000
DTEND;TZID=America/Kentucky/Monticello:20240112T220000
DTSTAMP:20260424T063906
CREATED:20240112T105952Z
LAST-MODIFIED:20240112T105952Z
UID:15570-1705089600-1705096800@seesomerset.com
SUMMARY:The Dangerous Method
DESCRIPTION:Hear The Dan­ger­ous Method per­form on Fri­day\, Jan. 12 at 8 p.m. at Jarfly Brew­ing in down­town Som­er­set. The Dan­ger­ous Method is from Nashville\, Ten­nessee\, and per­forms indie/alt rock.
URL:https://seesomerset.com/event/the-dangerous-method/
LOCATION:Jarfly Brewing Co.\, 103 Mt. Vernon St.\, Somerset\, Kentucky\, 42501\, United States
CATEGORIES:Music
ATTACH;FMTTYPE=image/jpeg:https://seesomerset.com/wp-content/uploads/2024/01/416757757_1130673111572332_8163632181177738466_n-e1704910070535.jpg
END:VEVENT
BEGIN:VEVENT
DTSTART;TZID=America/Kentucky/Monticello:20240106T200000
DTEND;TZID=America/Kentucky/Monticello:20240106T220000
DTSTAMP:20260424T063906
CREATED:20240105T134045Z
LAST-MODIFIED:20240105T134045Z
UID:15408-1704571200-1704578400@seesomerset.com
SUMMARY:Sean Whiting LIVE at Jarfly Brewing
DESCRIPTION:Musi­cian Sean Whit­ing per­forms from 8–10 p.m. Sat­ur­day\, Jan. 6 at Jarfly Brew­ing in down­town Som­er­set.
URL:https://seesomerset.com/event/sean-whiting-live-at-jarfly-brewing/
LOCATION:Jarfly Brewing Co.\, 103 Mt. Vernon St.\, Somerset\, Kentucky\, 42501\, United States
CATEGORIES:Music
ATTACH;FMTTYPE=image/png:https://seesomerset.com/wp-content/uploads/2024/01/seanwhiting.png
END:VEVENT
BEGIN:VEVENT
DTSTART;TZID=America/Kentucky/Monticello:20240105T200000
DTEND;TZID=America/Kentucky/Monticello:20240105T220000
DTSTAMP:20260424T063906
CREATED:20240105T133939Z
LAST-MODIFIED:20240105T133939Z
UID:15405-1704484800-1704492000@seesomerset.com
SUMMARY:Whiskey River LIVE at Jarfly Brewing
DESCRIPTION:Whisky Riv­er per­forms from 8–10 p.m. Fri­day\, Jan. 5 at Jarfly Brew­ing in down­town Som­er­set. The record­ing artist and vet­er­an duo will enter­tain with a wide vari­ety of nos­tal­gic chart top­pers.
URL:https://seesomerset.com/event/whiskey-river-live-at-jarfly-brewing/
LOCATION:Jarfly Brewing Co.\, 103 Mt. Vernon St.\, Somerset\, Kentucky\, 42501\, United States
CATEGORIES:Music
ATTACH;FMTTYPE=image/png:https://seesomerset.com/wp-content/uploads/2024/01/whiskeyriver.png
END:VEVENT
BEGIN:VEVENT
DTSTART;TZID=America/Kentucky/Monticello:20231216T140000
DTEND;TZID=America/Kentucky/Monticello:20231216T190000
DTSTAMP:20260424T063906
CREATED:20231207T173723Z
LAST-MODIFIED:20231207T173723Z
UID:15059-1702735200-1702753200@seesomerset.com
SUMMARY:Jarfly Winterfest
DESCRIPTION:Jarfly Win­ter­fest will enter­tain on Sat­ur­day\, Dec. 16 from 2–7 p.m. at Jarfly Brew­ing Co. in down­town Som­er­set. A ven­dors mar­ket will be set up the entire time with Wook Waf­fles serv­ing food\, and LIVE music from two Amer­i­can Idol con­tes­tants (Sea­son 21) — Caden Glover and Jadan Tram­mell.
URL:https://seesomerset.com/event/jarfly-winterfest/
LOCATION:Jarfly Brewing Co.\, 103 Mt. Vernon St.\, Somerset\, Kentucky\, 42501\, United States
CATEGORIES:Food,Music,Shopping
ATTACH;FMTTYPE=image/jpeg:https://seesomerset.com/wp-content/uploads/2023/12/jarfly-winterfest.jpeg
END:VEVENT
BEGIN:VEVENT
DTSTART;TZID=America/Kentucky/Monticello:20231215T200000
DTEND;TZID=America/Kentucky/Monticello:20231215T220000
DTSTAMP:20260424T063906
CREATED:20231214T213752Z
LAST-MODIFIED:20231214T213752Z
UID:15195-1702670400-1702677600@seesomerset.com
SUMMARY:Jonathan New at Jarfly Brewing Co.
DESCRIPTION:Hear Jonathan New per­form from 8–10 p.m. Fri­day\, Dec. 15 at Jarfly Brew­ing Co. in down­town Som­er­set. Jonathan is a tal­ent­ed musi­cian who plays mul­ti­ple instru­ments with folk melodies.
URL:https://seesomerset.com/event/jonathan-new-at-jarfly-brewing-co/
LOCATION:Jarfly Brewing Co.\, 103 Mt. Vernon St.\, Somerset\, Kentucky\, 42501\, United States
CATEGORIES:Music
ATTACH;FMTTYPE=image/jpeg:https://seesomerset.com/wp-content/uploads/2023/12/jonathannew.jpeg
END:VEVENT
BEGIN:VEVENT
DTSTART;TZID=America/Kentucky/Monticello:20231210T153000
DTEND;TZID=America/Kentucky/Monticello:20231210T183000
DTSTAMP:20260424T063906
CREATED:20231207T173801Z
LAST-MODIFIED:20231207T173801Z
UID:15062-1702222200-1702233000@seesomerset.com
SUMMARY:Santa Paws & Pints
DESCRIPTION:Bring your fur­ry friends to San­ta Paws & Pints on Sun­day\, Dec. 10 from 3:30–6:30 p.m. at Jarfly Brew­ing Co. in down­town Som­er­set. Your pets with paws can meet San­ta Claus and get a pho­to!
URL:https://seesomerset.com/event/santa-paws-pints/
LOCATION:Jarfly Brewing Co.\, 103 Mt. Vernon St.\, Somerset\, Kentucky\, 42501\, United States
CATEGORIES:Entertainment
ATTACH;FMTTYPE=image/png:https://seesomerset.com/wp-content/uploads/2023/12/jarflypawspints.png
END:VEVENT
BEGIN:VEVENT
DTSTART;TZID=America/Kentucky/Monticello:20231202T200000
DTEND;TZID=America/Kentucky/Monticello:20231202T220000
DTSTAMP:20260424T063906
CREATED:20231127T184906Z
LAST-MODIFIED:20231127T184906Z
UID:14935-1701547200-1701554400@seesomerset.com
SUMMARY:Drag & Drafts Holiday Extravaganza
DESCRIPTION:Jarfly Brew­ing Co. will host a Drag & Drafts Hol­i­day Extrav­a­gan­za at 8 p.m. Sat­ur­day\, Dec. 2 at Jarfly Brew­ing Co. in down­town Som­er­set. There is a $5 cov­er fee.
URL:https://seesomerset.com/event/drag-drafts-holiday-extravaganza/
LOCATION:Jarfly Brewing Co.\, 103 Mt. Vernon St.\, Somerset\, Kentucky\, 42501\, United States
CATEGORIES:Entertainment
ATTACH;FMTTYPE=image/jpeg:https://seesomerset.com/wp-content/uploads/2023/11/drag-drafts.jpeg
END:VEVENT
END:VCALENDAR