BEGIN:VCALENDAR
VERSION:2.0
PRODID:-//SeeMySet - ECPv6.15.20//NONSGML v1.0//EN
CALSCALE:GREGORIAN
METHOD:PUBLISH
X-ORIGINAL-URL:https://seesomerset.com
X-WR-CALDESC:Events for SeeMySet
REFRESH-INTERVAL;VALUE=DURATION:PT1H
X-Robots-Tag:noindex
X-PUBLISHED-TTL:PT1H
BEGIN:VTIMEZONE
TZID:America/Kentucky/Monticello
BEGIN:DAYLIGHT
TZOFFSETFROM:-0500
TZOFFSETTO:-0400
TZNAME:EDT
DTSTART:20220313T070000
END:DAYLIGHT
BEGIN:STANDARD
TZOFFSETFROM:-0400
TZOFFSETTO:-0500
TZNAME:EST
DTSTART:20221106T060000
END:STANDARD
BEGIN:DAYLIGHT
TZOFFSETFROM:-0500
TZOFFSETTO:-0400
TZNAME:EDT
DTSTART:20230312T070000
END:DAYLIGHT
BEGIN:STANDARD
TZOFFSETFROM:-0400
TZOFFSETTO:-0500
TZNAME:EST
DTSTART:20231105T060000
END:STANDARD
BEGIN:DAYLIGHT
TZOFFSETFROM:-0500
TZOFFSETTO:-0400
TZNAME:EDT
DTSTART:20240310T070000
END:DAYLIGHT
BEGIN:STANDARD
TZOFFSETFROM:-0400
TZOFFSETTO:-0500
TZNAME:EST
DTSTART:20241103T060000
END:STANDARD
END:VTIMEZONE
BEGIN:VEVENT
DTSTART;TZID=America/Kentucky/Monticello:20230806T190000
DTEND;TZID=America/Kentucky/Monticello:20230806T210000
DTSTAMP:20260421T091407
CREATED:20230727T162153Z
LAST-MODIFIED:20230727T162153Z
UID:4120-1691348400-1691355600@seesomerset.com
SUMMARY:August Blues Jam
DESCRIPTION:Join the Lake Cum­ber­land Blues Soci­ety for its month­ly open blues jam at 7 p.m. Sun­day\, Aug. 6 at the Coop­er Com­mu­ni­ty Arts Cen­ter in down­town Som­er­set. The event is free and all ages are wel­come. The arts cen­ter’s mis­sion is to pro­mote the arts through diverse enter­tain­ment and edu­ca­tion.\n\nFor more about upcom­ing Coop­er Com­mu­ni­ty Arts Cen­ter events\, vis­it the cen­ter’s Face­book page.
URL:https://seesomerset.com/event/august-blues-jam/
LOCATION:Cooper Community Arts Center\, 107 N. Main St.\, Somerset\, KY\, 42501\, United States
CATEGORIES:Music
ATTACH;FMTTYPE=image/jpeg:https://seesomerset.com/wp-content/uploads/2023/07/362908455_268578325794827_8048628928859802992_n.jpg
END:VEVENT
BEGIN:VEVENT
DTSTART;TZID=America/Kentucky/Monticello:20230711T190000
DTEND;TZID=America/Kentucky/Monticello:20230711T210000
DTSTAMP:20260421T091407
CREATED:20230706T175932Z
LAST-MODIFIED:20230706T175932Z
UID:4047-1689102000-1689109200@seesomerset.com
SUMMARY:Tuesday Night Open Mic
DESCRIPTION:Per­form or sit back and lis­ten at the John Sher­man Coop­er Com­mu­ni­ty Arts Cen­ter’s Tues­day Night Open Mic events July 11–25 from 7–9 p.m. The arts cen­ter is locat­ed at 107 N. Main St. in down­town Som­er­set.
URL:https://seesomerset.com/event/tuesday-night-open-mic/2023-07-11/
LOCATION:Cooper Community Arts Center\, 107 N. Main St.\, Somerset\, KY\, 42501\, United States
CATEGORIES:Music
ATTACH;FMTTYPE=image/png:https://seesomerset.com/wp-content/uploads/2023/02/Screen-Shot-2023-02-06-at-1.08.10-PM.png
END:VEVENT
BEGIN:VEVENT
DTSTART;TZID=America/Kentucky/Monticello:20230622T190000
DTEND;TZID=America/Kentucky/Monticello:20230622T210000
DTSTAMP:20260421T091407
CREATED:20230621T190221Z
LAST-MODIFIED:20230621T190221Z
UID:3993-1687460400-1687467600@seesomerset.com
SUMMARY:Bluesy B and The Stingers performing LIVE
DESCRIPTION:Hear Bluesy B and The Stingers per­form­ing LIVE in the John Sher­man Coop­er Com­mu­ni­ty Arts Cen­ter park­ing lot on Thurs­day\, June 22\, begin­ning at 7 p.m. The blues and 60’s clas­sic rock group will have you groovin’ all evening. The cen­ter advis­es bring­ing a camp chair\, a pic­nic blan­ket\, and some snacks to enjoy the show.
URL:https://seesomerset.com/event/bluesy-b-and-the-stingers-performing-live/
LOCATION:Cooper Community Arts Center\, 107 N. Main St.\, Somerset\, KY\, 42501\, United States
CATEGORIES:Music
ATTACH;FMTTYPE=image/jpeg:https://seesomerset.com/wp-content/uploads/2023/06/Bluesy-B.jpeg
END:VEVENT
BEGIN:VEVENT
DTSTART;TZID=America/Kentucky/Monticello:20230604T140000
DTEND;TZID=America/Kentucky/Monticello:20230604T160000
DTSTAMP:20260421T091407
CREATED:20230531T193141Z
LAST-MODIFIED:20230531T193141Z
UID:3892-1685887200-1685894400@seesomerset.com
SUMMARY:First Sunday Open Blues Jam
DESCRIPTION:Join the Lake Cum­ber­land Blues Soci­ety at the Coop­er Com­mu­ni­ty Arts Cen­ter in down­town Som­er­set the first Sun­day of every month at 2 p.m. for an Open Blues Jam ses­sion! The event is spear­head­ed by the Lake Cum­ber­land Blues Soci­ety\, a group found­ed on the prin­ci­ple of blues preser­va­tion and edu­ca­tion in the Lake Cum­ber­land area.
URL:https://seesomerset.com/event/first-sunday-open-blues-jam/2023-06-04/
LOCATION:Cooper Community Arts Center\, 107 N. Main St.\, Somerset\, KY\, 42501\, United States
CATEGORIES:Music
ATTACH;FMTTYPE=image/jpeg:https://seesomerset.com/wp-content/uploads/2023/05/350116671_795045512245378_2934423789452014250_n.jpg
END:VEVENT
BEGIN:VEVENT
DTSTART;TZID=America/Kentucky/Monticello:20230317T190000
DTEND;TZID=America/Kentucky/Monticello:20230317T210000
DTSTAMP:20260421T091407
CREATED:20230315T195137Z
LAST-MODIFIED:20230315T195137Z
UID:3373-1679079600-1679086800@seesomerset.com
SUMMARY:3rd Friday Folk
DESCRIPTION:3rd Fri­day Folk con­cludes it’s eight years of month­ly con­certs on Fri­day\, March 17 at 7 p.m. Fea­tured per­for­mances for the evening include Somerset’s most enter­tain­ing duo\, The Sorghum Sis­ters (Maryann Callar­man & Mar­lene Petersen) and 3rd Fri­day Folk’s founders and hosts\, Joe LaMay & Sher­ri Reese with Paul Davis (ban­jo) and Randy Frye (bass). \n \nCall (606) 305‑6741 for more info or (606) 677‑0333 for reser­va­tions.
URL:https://seesomerset.com/event/3rd-friday-folk/
LOCATION:Cooper Community Arts Center\, 107 N. Main St.\, Somerset\, KY\, 42501\, United States
CATEGORIES:Music
ATTACH;FMTTYPE=image/png:https://seesomerset.com/wp-content/uploads/2023/02/Screen-Shot-2023-02-06-at-1.08.10-PM.png
END:VEVENT
BEGIN:VEVENT
DTSTART;TZID=America/Kentucky/Monticello:20230316T190000
DTEND;TZID=America/Kentucky/Monticello:20230316T210000
DTSTAMP:20260421T091407
CREATED:20230315T195056Z
LAST-MODIFIED:20230315T195056Z
UID:3370-1678993200-1679000400@seesomerset.com
SUMMARY:Thursday Night Open Mic
DESCRIPTION:Fel­low­ship at The Coop­er Com­mu­ni­ty Arts Cen­ter for Thurs­day Night Open Mic at 7 p.m. All gen­res of music are wel­come! Call (859) 967‑3263 for more info or vis­it the arts cen­ter’s Face­book Page.
URL:https://seesomerset.com/event/thursday-night-open-mic/
LOCATION:Cooper Community Arts Center\, 107 N. Main St.\, Somerset\, KY\, 42501\, United States
CATEGORIES:Music
ATTACH;FMTTYPE=image/jpeg:https://seesomerset.com/wp-content/uploads/2023/03/pexels-pixabay-164829-scaled.jpg
END:VEVENT
BEGIN:VEVENT
DTSTART;TZID=America/Kentucky/Monticello:20230207T180000
DTEND;TZID=America/Kentucky/Monticello:20230207T203000
DTSTAMP:20260421T091407
CREATED:20230206T171546Z
LAST-MODIFIED:20230206T171546Z
UID:3207-1675792800-1675801800@seesomerset.com
SUMMARY:Lake Cumberland Jammers Tuesday Nights
DESCRIPTION:Join local and area musi­cians on Tues­days from 6 to 8:30 p.m. at the Coop­er Com­mu­ni­ty Arts Cen­ter. Pick­ers will take turns singing and lead­ing oth­ers in their favorite songs. Music ranges from old-time favorites\, blue­grass\, coun­try\, and gospel to orig­i­nal songs. \nCall (606) 677‑2906 or (606) 305‑6741 for more infor­ma­tion.
URL:https://seesomerset.com/event/lake-cumberland-jammers-tuesday-nights/2023-02-07/
LOCATION:Cooper Community Arts Center\, 107 N. Main St.\, Somerset\, KY\, 42501\, United States
CATEGORIES:Music
ATTACH;FMTTYPE=image/jpeg:https://seesomerset.com/wp-content/uploads/2023/02/Lake-Cumberland-Jammers-scaled.jpg
END:VEVENT
END:VCALENDAR