BEGIN:VCALENDAR
VERSION:2.0
PRODID:-//SeeMySet - ECPv6.15.20//NONSGML v1.0//EN
CALSCALE:GREGORIAN
METHOD:PUBLISH
X-ORIGINAL-URL:https://seesomerset.com
X-WR-CALDESC:Events for SeeMySet
REFRESH-INTERVAL;VALUE=DURATION:PT1H
X-Robots-Tag:noindex
X-PUBLISHED-TTL:PT1H
BEGIN:VTIMEZONE
TZID:America/Kentucky/Monticello
BEGIN:DAYLIGHT
TZOFFSETFROM:-0500
TZOFFSETTO:-0400
TZNAME:EDT
DTSTART:20230312T070000
END:DAYLIGHT
BEGIN:STANDARD
TZOFFSETFROM:-0400
TZOFFSETTO:-0500
TZNAME:EST
DTSTART:20231105T060000
END:STANDARD
BEGIN:DAYLIGHT
TZOFFSETFROM:-0500
TZOFFSETTO:-0400
TZNAME:EDT
DTSTART:20240310T070000
END:DAYLIGHT
BEGIN:STANDARD
TZOFFSETFROM:-0400
TZOFFSETTO:-0500
TZNAME:EST
DTSTART:20241103T060000
END:STANDARD
BEGIN:DAYLIGHT
TZOFFSETFROM:-0500
TZOFFSETTO:-0400
TZNAME:EDT
DTSTART:20250309T070000
END:DAYLIGHT
BEGIN:STANDARD
TZOFFSETFROM:-0400
TZOFFSETTO:-0500
TZNAME:EST
DTSTART:20251102T060000
END:STANDARD
END:VTIMEZONE
BEGIN:VEVENT
DTSTART;TZID=America/Kentucky/Monticello:20240921T100000
DTEND;TZID=America/Kentucky/Monticello:20240921T120000
DTSTAMP:20260425T063602
CREATED:20240919T145311Z
LAST-MODIFIED:20240919T145311Z
UID:17769-1726912800-1726920000@seesomerset.com
SUMMARY:Somerset Walk to End Alzheimer's
DESCRIPTION:Join in the Som­er­set Walk to End Alzheimer’s on Sat­ur­day\, Sept. 21 at 10 a.m. at Judi­cial Cen­ter Plaza in down­town Som­er­set. The mile-long walk is a rain or shine event. All funds raised through Walk to End Alzheimer’s fur­ther the care\, sup­port & research efforts of the Alzheimer’s Asso­ci­a­tion. All dona­tions are tax-deductible as allowed.
URL:https://seesomerset.com/event/somerset-walk-to-end-alzheimers/
LOCATION:Pulaski County Judicial Center Plaza\, 50 Public Square\, Somerset\, 42502\, United States
CATEGORIES:Athletic
ATTACH;FMTTYPE=image/png:https://seesomerset.com/wp-content/uploads/2024/09/Untitled-design-2024-09-18T195511.961.png
END:VEVENT
END:VCALENDAR