BEGIN:VCALENDAR
VERSION:2.0
PRODID:-//SeeMySet - ECPv6.15.20//NONSGML v1.0//EN
CALSCALE:GREGORIAN
METHOD:PUBLISH
X-ORIGINAL-URL:https://seesomerset.com
X-WR-CALDESC:Events for SeeMySet
REFRESH-INTERVAL;VALUE=DURATION:PT1H
X-Robots-Tag:noindex
X-PUBLISHED-TTL:PT1H
BEGIN:VTIMEZONE
TZID:America/Kentucky/Monticello
BEGIN:DAYLIGHT
TZOFFSETFROM:-0500
TZOFFSETTO:-0400
TZNAME:EDT
DTSTART:20240310T070000
END:DAYLIGHT
BEGIN:STANDARD
TZOFFSETFROM:-0400
TZOFFSETTO:-0500
TZNAME:EST
DTSTART:20241103T060000
END:STANDARD
BEGIN:DAYLIGHT
TZOFFSETFROM:-0500
TZOFFSETTO:-0400
TZNAME:EDT
DTSTART:20250309T070000
END:DAYLIGHT
BEGIN:STANDARD
TZOFFSETFROM:-0400
TZOFFSETTO:-0500
TZNAME:EST
DTSTART:20251102T060000
END:STANDARD
BEGIN:DAYLIGHT
TZOFFSETFROM:-0500
TZOFFSETTO:-0400
TZNAME:EDT
DTSTART:20260308T070000
END:DAYLIGHT
BEGIN:STANDARD
TZOFFSETFROM:-0400
TZOFFSETTO:-0500
TZNAME:EST
DTSTART:20261101T060000
END:STANDARD
END:VTIMEZONE
BEGIN:VEVENT
DTSTART;TZID=America/Kentucky/Monticello:20250330T140000
DTEND;TZID=America/Kentucky/Monticello:20250330T160000
DTSTAMP:20260425T134254
CREATED:20250313T000915Z
LAST-MODIFIED:20250313T000915Z
UID:18201-1743343200-1743350400@seesomerset.com
SUMMARY:Lake Cumberland Children's Theatre Presents: Shakespeare's A Midsummer Night's Dream
DESCRIPTION:The Lake Cum­ber­land Chil­dren’s The­atre Presents: Shake­speare’s A Mid­sum­mer Night’s Dream or the Night They Missed the For­est for the Trees will per­form at The Vir­ginia with three chances to view their LIVE per­for­mance in down­town Som­er­set. \n\nShow Dates:\n Fri­day\, March 28 at 7PM\nhttps://www.eventbrite.com/e/1272831235489?aff=oddtdtcreator\n\n\n Sat­ur­day\, March 29 at 7PM\nhttps://www.eventbrite.com/e/1273015867729?aff=oddtdtcreator\n\n\n Sun­day\, March 30 at 2pm\nhttps://www.eventbrite.com/…/a‑midsummer-nights-dream…\n\n\nTick­ets are avail­able online for $7 via Eventbrite or at thevirginiaky.com.
URL:https://seesomerset.com/event/lake-cumberland-childrens-theatre-presents-shakespeares-a-midsummer-nights-dream/2025-03-30/
LOCATION:The Virginia\, 214. E. Mt Vernon St\, Somerset\, KY\, 42501\, United States
CATEGORIES:Entertainment,Theater
ATTACH;FMTTYPE=image/png:https://seesomerset.com/wp-content/uploads/2025/03/Screenshot-2025-03-11-at-8.27.54 PM.png
END:VEVENT
BEGIN:VEVENT
DTSTART;TZID=America/Kentucky/Monticello:20250329T190000
DTEND;TZID=America/Kentucky/Monticello:20250330T210000
DTSTAMP:20260425T134254
CREATED:20250313T000914Z
LAST-MODIFIED:20250313T000914Z
UID:18200-1743274800-1743368400@seesomerset.com
SUMMARY:Lake Cumberland Children's Theatre Presents: Shakespeare's A Midsummer Night's Dream
DESCRIPTION:The Lake Cum­ber­land Chil­dren’s The­atre Presents: Shake­speare’s A Mid­sum­mer Night’s Dream or the Night They Missed the For­est for the Trees will per­form at The Vir­ginia with three chances to view their LIVE per­for­mance in down­town Som­er­set. \n\nShow Dates:\n Fri­day\, March 28 at 7PM\nhttps://www.eventbrite.com/e/1272831235489?aff=oddtdtcreator\n\n\n Sat­ur­day\, March 29 at 7PM\nhttps://www.eventbrite.com/e/1273015867729?aff=oddtdtcreator\n\n\n Sun­day\, March 30 at 2pm\nhttps://www.eventbrite.com/…/a‑midsummer-nights-dream…\n\n\nTick­ets are avail­able online for $7 via Eventbrite or at thevirginiaky.com.
URL:https://seesomerset.com/event/lake-cumberland-childrens-theatre-presents-shakespeares-a-midsummer-nights-dream/2025-03-29/
LOCATION:The Virginia\, 214. E. Mt Vernon St\, Somerset\, KY\, 42501\, United States
CATEGORIES:Entertainment,Theater
ATTACH;FMTTYPE=image/png:https://seesomerset.com/wp-content/uploads/2025/03/Screenshot-2025-03-11-at-8.27.54 PM.png
END:VEVENT
BEGIN:VEVENT
DTSTART;TZID=America/Kentucky/Monticello:20250328T190000
DTEND;TZID=America/Kentucky/Monticello:20250328T210000
DTSTAMP:20260425T134254
CREATED:20250313T000914Z
LAST-MODIFIED:20250313T000914Z
UID:18198-1743188400-1743195600@seesomerset.com
SUMMARY:Lake Cumberland Children's Theatre Presents: Shakespeare's A Midsummer Night's Dream
DESCRIPTION:The Lake Cum­ber­land Chil­dren’s The­atre Presents: Shake­speare’s A Mid­sum­mer Night’s Dream or the Night They Missed the For­est for the Trees will per­form at The Vir­ginia with three chances to view their LIVE per­for­mance in down­town Som­er­set. \n\nShow Dates:\n Fri­day\, March 28 at 7PM\nhttps://www.eventbrite.com/e/1272831235489?aff=oddtdtcreator\n\n\n Sat­ur­day\, March 29 at 7PM\nhttps://www.eventbrite.com/e/1273015867729?aff=oddtdtcreator\n\n\n Sun­day\, March 30 at 2pm\nhttps://www.eventbrite.com/…/a‑midsummer-nights-dream…\n\n\nTick­ets are avail­able online for $7 via Eventbrite or at thevirginiaky.com.
URL:https://seesomerset.com/event/lake-cumberland-childrens-theatre-presents-shakespeares-a-midsummer-nights-dream/2025-03-28/
LOCATION:The Virginia\, 214. E. Mt Vernon St\, Somerset\, KY\, 42501\, United States
CATEGORIES:Entertainment,Theater
ATTACH;FMTTYPE=image/png:https://seesomerset.com/wp-content/uploads/2025/03/Screenshot-2025-03-11-at-8.27.54 PM.png
END:VEVENT
END:VCALENDAR